Workbook
Name A_impresión_IM: #REF!
Name DIFERENCIAS: #N/A
Name NNNN: #REF!
Name prueba: #REF!
Name SegmentaciónDeDatos_Entidad: #N/A
Name VARIABLES: #N/A

Sheet 1
J1: Anexo 2
A3: PORCENTAJES Y MONTOS ESTIMADOS DE PARTICIPACIONES FEDERALES CORRESPONDIENTES A LOS MUNICIPIOS PARA EL EJERCICIO FISCAL 2023
A5: (Pesos)
B6: FONDO ESTATAL DE PARTICIPACIONES A MUNICIPIOS
B7: FONDO GENERAL DE PARTICIPACIONES | D7: FONDO DE FOMENTO MUNICIPAL | F7: IMPUESTO ESPECIAL SOBRE PRODUCCIÓN Y SERVICIOS | H7: IMPUESTO SOBRE AUTOMÓVILES NUEVOS | J7: FONDO DE COMPENSACIÓN DEL IMPUESTO SOBRE AUTOMÓVILES NUEVOS
A8: Municipio | B8: Porcentaje | C8: Monto | D8: Porcentaje (70%) | E8: Monto | F8: Porcentaje | G8: Monto | H8: Porcentaje | I8: Monto | J8: Porcentaje | K8: Monto
A9: Abasolo | B9: 0.542913 | C9: 25831068 | D9: 0.542913 | E9: 5500806 | F9: 0.542913 | G9: 578393 | H9: 0.542913 | I9: 562320 | J9: 0.542913 | K9: 142294
A10: Aldama | B10: 0.975659 | C10: 46420539 | D10: 0.975659 | E10: 9885398 | F10: 0.975659 | G10: 1039419 | H10: 0.975659 | I10: 1010536 | J10: 0.975659 | K10: 255713
A11: Altamira | B11: 6.739637 | C11: 320662835 | D11: 6.739637 | E11: 68286148 | F11: 6.739637 | G11: 7180075 | H11: 6.739637 | I11: 6980557 | J11: 6.739637 | K11: 1766410
A12: Antiguo Morelos | B12: 0.527874 | C12: 25115533 | D12: 0.527874 | E12: 5348431 | F12: 0.527874 | G12: 562371 | H12: 0.527874 | I12: 546744 | J12: 0.527874 | K12: 138352
A13: Burgos | B13: 0.423936 | C13: 20170303 | D13: 0.423936 | E13: 4295329 | F13: 0.423936 | G13: 451640 | H13: 0.423936 | I13: 439090 | J13: 0.423936 | K13: 111111
A14: Bustamante | B14: 0.477815 | C14: 22733793 | D14: 0.477815 | E14: 4841232 | F14: 0.477815 | G14: 509040 | H14: 0.477815 | I14: 494895 | J14: 0.477815 | K14: 125232
A15: Camargo | B15: 0.712575 | C15: 33903357 | D15: 0.712575 | E15: 7219825 | F15: 0.712575 | G15: 759142 | H15: 0.712575 | I15: 738047 | J15: 0.712575 | K15: 186761
A16: Casas | B16: 0.416283 | C16: 19806183 | D16: 0.416283 | E16: 4217788 | F16: 0.416283 | G16: 443487 | H16: 0.416283 | I16: 431164 | J16: 0.416283 | K16: 109105
A17: Ciudad Madero | B17: 5.555461 | C17: 264321339 | D17: 5.555461 | E17: 56288051 | F17: 5.555461 | G17: 5918512 | H17: 5.555461 | I17: 5754051 | J17: 5.555461 | K17: 1456046
A18: Cruillas | B18: 0.361656 | C18: 17207105 | D18: 0.361656 | E18: 3664306 | F18: 0.361656 | G18: 385290 | H18: 0.361656 | I18: 374584 | J18: 0.361656 | K18: 94787
A19: Gómez Farías | B19: 0.517605 | C19: 24626948 | D19: 0.517605 | E19: 5244385 | F19: 0.517605 | G19: 551431 | H19: 0.517605 | I19: 536108 | J19: 0.517605 | K19: 135661
A20: González | B20: 1.30177 | C20: 61936460 | D20: 1.30177 | E20: 13189562 | F20: 1.30177 | G20: 1386841 | H20: 1.30177 | I20: 1348304 | J20: 1.30177 | K20: 341184
... A51: Xicoténcatl | B51: 0.834362 | C51: 39697816 | D51: 0.834362 | E51: 8453773 | F51: 0.834362 | G51: 888888 | H51: 0.834362 | I51: 864188 | J51: 0.834362 | K51: 218680
A52: Total | B52: 100 | C52: =SUM(C9:C51) -> 4757865073 | D52: 100 | E52: =SUM(E9:E51) -> 1013202162 | F52: 100 | G52: =SUM(G9:G51) -> 106535033 | H52: 100 | I52: =SUM(I9:I51) -> 103574676 | J52: 100 | K52: =SUM(K9:K51) -> 26209274
A53: Nota: Las cifras parciales pueden no coincidir con el total debido al redondeo.

Sheet 2
D1: Anexo 3
A3: PORCENTAJES Y MONTOS ESTIMADOS DE PARTICIPACIONES FEDERALES CORRESPONDIENTES A LOS MUNICIPIOS PARA EL EJERCICIO FISCAL 2023
B5: (Pesos)
C7: FONDO DE FOMENTO MUNICIPAL
B8: Municipio | C8: Porcentaje (30%) | D8: Monto
B9: Abasolo | C9: 0.843943 | D9: 1515812
B10: Aldama | C10: 1.960975 | D10: 3522120
B11: Altamira | D11: 0
B12: Antiguo Morelos | D12: 0
B13: Burgos | C13: 0.259047 | D13: 465276
B14: Bustamante | C14: 0.44367 | D14: 796879
B15: Camargo | C15: 1.081828 | D15: 1943078
B16: Casas | D16: 0
B17: Ciudad Madero | D17: 0
B18: Cruillas | C18: 0.056677 | D18: 101798
B19: Gómez Farías | C19: 0.568751 | D19: 1021537
B20: González | C20: 2.720626 | D20: 4886535
B21: Güémez | C21: 1.33087 | D21: 2390384
B22: Guerrero | C22: 0.247 | D22: 443638
B23: Gustavo Díaz Ordaz | D23: 0
B24: Hidalgo | D24: 0
B25: Jaumave | C25: 1.134134 | D25: 2037026
B26: Jiménez | C26: 0.42497 | D26: 763291
B27: Llera | C27: 1.045504 | D27: 1877837
B28: Mainero | D28: 0
B29: El Mante | D29: 0
B30: Matamoros | D30: 0
B31: Méndez | C31: 0.351556 | D31: 631432
B32: Mier | C32: 0.372226 | D32: 668558
B33: Miguel Alemán | D33: 0
B34: Miquihuana | D34: 0
B35: Nuevo Laredo | C35: 27.949394 | D35: 50200093
B36: Nuevo Morelos | C36: 0.18774 | D36: 337201
B37: Ocampo | C37: 0.923654 | D37: 1658981
B38: Padilla | C38: 0.994092 | D38: 1785495
B39: Palmillas | C39: 0.121365 | D39: 217984
B40: Reynosa | D40: 0
B41: Río Bravo | D41: 0
B42: San Carlos | C42: 0.557308 | D42: 1000985
B43: San Fernando | C43: 3.412952 | D43: 6130026
...

Sheet 3
A4: PORCENTAJES Y MONTOS ESTIMADOS DE PARTICIPACIONES FEDERALES CORRESPONDIENTES A LOS MUNICIPIOS PARA EL EJERCICIO FISCAL
A5: 2023
B6: (Pesos)
D7: FONDO DE FISCALIZACIÓN Y RECAUDACIÓN | G7: FONDO DE EXTRACCIÓN DE HIDROCARBUROS | L7: INCENTIVOS A LA VENTA FINAL DE GASOLINAS Y DIESEL | P7: TOTAL
A8: Municipio | D8: Porcentaje | E8: Monto | G8: Porcentaje (40%) | H8: Porcentaje (60%) | J8: Monto | L8: Porcentaje | M8: Monto
A9: Abasolo | D9: 2.3013 | E9: 6683813 | G9: 3.703704 | J9: 743379 | L9: 0.885285 | M9: 1939011 | P9: =+'1'!C9+'1'!E9+'1'!G9+'1'!I9+'1'!K9+'2'!D9+'3'!E9+'3'!J9+'3'!M9 -> 43496896
A10: Aldama | D10: 2.373833 | E10: 6894476 | H10: 6.25 | J10: 1881677 | L10: 1.282133 | M10: 2808214 | P10: =+'1'!C10+'1'!E10+'1'!G10+'1'!I10+'1'!K10+'2'!D10+'3'!E10+'3'!J10+'3'!M10 -> 73718092
A11: Altamira | D11: 2.521208 | E11: 7322506 | H11: 6.25 | J11: 1881677 | L11: 6.10974 | M11: 13381963 | P11: =+'1'!C11+'1'!E11+'1'!G11+'1'!I11+'1'!K11+'2'!D11+'3'!E11+'3'!J11+'3'!M11 -> 427462171
A12: Antiguo Morelos | D12: 2.363433 | E12: 6864270 | G12: 3.703704 | J12: 743379 | L12: 0.884638 | M12: 1937594 | P12: =+'1'!C12+'1'!E12+'1'!G12+'1'!I12+'1'!K12+'2'!D12+'3'!E12+'3'!J12+'3'!M12 -> 41256674
A13: Burgos | D13: 2.268379 | E13: 6588199 | G13: 3.703704 | J13: 743379 | L13: 0.764965 | M13: 1675478 | P13: =+'1'!C13+'1'!E13+'1'!G13+'1'!I13+'1'!K13+'2'!D13+'3'!E13+'3'!J13+'3'!M13 -> 34939805
A14: Bustamante | D14: 2.192364 | E14: 6367424 | G14: 3.703704 | J14: 743379 | L14: 0.807363 | M14: 1768341 | P14: =+'1'!C14+'1'!E14+'1'!G14+'1'!I14+'1'!K14+'2'!D14+'3'!E14+'3'!J14+'3'!M14 -> 38380215
A15: Camargo | D15: 2.33067 | E15: 6769115 | H15: 6.25 | J15: 1881677 | L15: 1.027519 | M15: 2250541 | P15: =+'1'!C15+'1'!E15+'1'!G15+'1'!I15+'1'!K15+'2'!D15+'3'!E15+'3'!J15+'3'!M15 -> 55651543
A16: Casas | D16: 2.547037 | E16: 7397523 | G16: 3.703704 | J16: 743379 | L16: 0.84632 | M16: 1853667 | P16: =+'1'!C16+'1'!E16+'1'!G16+'1'!I16+'1'!K16+'2'!D16+'3'!E16+'3'!J16+'3'!M16 -> 35002296
A17: Ciudad Madero | D17: 2.218836 | E17: 6444308 | H17: 6.25 | J17: 1881677 | L17: 4.75193 | M17: 10407997 | P17: =+'1'!C17+'1'!E17+'1'!G17+'1'!I17+'1'!K17+'2'!D17+'3'!E17+'3'!J17+'3'!M17 -> 352471981
A18: Cruillas | D18: 1.647009 | E18: 4783514 | G18: 3.703704 | J18: 743379 | L18: 0.527261 | M18: 1154842 | P18: =+'1'!C18+'1'!E18+'1'!G18+'1'!I18+'1'!K18+'2'!D18+'3'!E18+'3'!J18+'3'!M18 -> 28509605
A19: Gómez Farías | D19: 2.723381 | E19: 7909690 | G19: 3.703704 | J19: 743379 | L19: 0.981471 | M19: 2149684 | P19: =+'1'!C19+'1'!E19+'1'!G19+'1'!I19+'1'!K19+'2'!D19+'3'!E19+'3'!J19+'3'!M19 -> 42918823
A20: González | D20: 2.371216 | E20: 6886875 | H20: 6.25 | J20: 1881677 | L20: 1.534244 | M20: 3360404 | P20: =+'1'!C20+'1'!E20+'1'!G20+'1'!I20+'1'!K20+'2'!D20+'3'!E20+'3'!J20+'3'!M20 -> 95217842
A21: Güémez | D21: 2.858125 | E21: 8301036 | G21: 3.703704 | J21: 743379 | L21: 1.155714 | M21: 2531322 | P21: =+'1'!C21+'1'!E21+'1'!G21+'1'!I21+'1'!K21+'2'!D21+'3'!E21+'3'!J21+'3'!M21 -> 53271609
A22: Guerrero | D22: 2.362248 | E22: 6860829 | H22: 6.25 | J22: 1881677 | L22: 0.784136 | M22: 1717467 | P22: =+'1'!C22+'1'!E22+'1'!G22+'1'!I22+'1'!K22+'2'!D22+'3'!E22+'3'!J22+'3'!M22 -> 36385382
A23: Gustavo Díaz Ordaz | D23: 2.614986 | E23: 7594872 | H23: 6.25 | J23: 1881677 | L23: 1.095571 | M23: 2399593 | P23: =+'1'!C23+'1'!E23+'1'!G23+'1'!I23+'1'!K23+'2'!D23+'3'!E23+'3'!J23+'3'!M23 -> 54456555
A24: Hidalgo | D24: 3.400149 | E24: 9875271 | G24: 3.703704 | J24: 743379 | L24: 1.35761 | M24: 2973529 | P24: =+'1'!C24+'1'!E24+'1'!G24+'1'!I24+'1'!K24+'2'!D24+'3'!E24+'3'!J24+'3'!M24 -> 55651512
A25: Jaumave | D25: 2.009922 | E25: 5837546 | G25: 3.703704 | J25: 743379 | L25: 0.920342 | M25: 2015795 | P25: =+'1'!C25+'1'!E25+'1'!G25+'1'!I25+'1'!K25+'2'!D25+'3'!E25+'3'!J25+'3'!M25 -> 51212798
A26: Jiménez | D26: 2.300594 | E26: 6681763 | G26: 3.703704 | J26: 743379 | L26: 0.816676 | M26: 1788739 | P26: =+'1'!C26+'1'!E26+'1'!G26+'1'!I26+'1'!K26+'2'!D26+'3'!E26+'3'!J26+'3'!M26 -> 38686891
A27: Llera | D27: 2.390637 | E27: 6943281 | G27: 3.703704 | J27: 743379 | L27: 1.007788 | M27: 2207325 | P27: =+'1'!C27+'1'!E27+'1'!G27+'1'!I27+'1'!K27+'2'!D27+'3'!E27+'3'!J27+'3'!M27 -> 51043548
A28: Mainero | D28: 2.684143 | E28: 7795729 | G28: 3.703704 | J28: 743379 | L28: 0.845881 | M28: 1852705 | P28: =+'1'!C28+'1'!E28+'1'!G28+'1'!I28+'1'!K28+'2'!D28+'3'!E28+'3'!J28+'3'!M28 -> 32591868
A29: El Mante | D29: 2.211489 | E29: 6422970 | G29: 3.703704 | J29: 743379 | L29: 2.769637 | M29: 6066245 | P29: =+'1'!C29+'1'!E29+'1'!G29+'1'!I29+'1'!K29+'2'!D29+'3'!E29+'3'!J29+'3'!M29 -> 181552046
A30: Matamoros | D30: 2.311773 | E30: 6714231 | H30: 6.25 | J30: 1881677 | L30: 11.447892 | M30: 25073943 | P30: =+'1'!C30+'1'!E30+'1'!G30+'1'!I30+'1'!K30+'2'!D30+'3'!E30+'3'!J30+'3'!M30 -> 798108666
A31: Méndez | D31: 2.744158 | E31: 7970034 | H31: 6.25 | J31: 1881677 | L31: 0.908174 | M31: 1989144 | P31: =+'1'!C31+'1'!E31+'1'!G31+'1'!I31+'1'!K31+'2'!D31+'3'!E31+'3'!J31+'3'!M31 -> 38044589
A32: Mier | D32: 2.459136 | E32: 7142227 | H32: 6.25 | J32: 1881677 | L32: 0.864437 | M32: 1893348 | P32: =+'1'!C32+'1'!E32+'1'!G32+'1'!I32+'1'!K32+'2'!D32+'3'!E32+'3'!J32+'3'!M32 -> 40599924
A33: Miguel Alemán | D33: 2.412458 | E33: 7006657 | H33: 6.25 | J33: 1881677 | L33: 1.244352 | M33: 2725463 | P33: =+'1'!C33+'1'!E33+'1'!G33+'1'!I33+'1'!K33+'2'!D33+'3'!E33+'3'!J33+'3'!M33 -> 70726718
A34: Miquihuana | D34: 1.972858 | E34: 5729898 | G34: 3.703704 | J34: 743379 | L34: 0.665355 | M34: 1457305 | P34: =+'1'!C34+'1'!E34+'1'!G34+'1'!I34+'1'!K34+'2'!D34+'3'!E34+'3'!J34+'3'!M34 -> 32145575
A35: Nuevo Laredo | D35: 2.308121 | E35: 6703624 | H35: 6.25 | J35: 1881677 | L35: 9.12676 | M35: 19990043 | P35: =+'1'!C35+'1'!E35+'1'!G35+'1'!I35+'1'!K35+'2'!D35+'3'!E35+'3'!J35+'3'!M35 -> 724918183
A36: Nuevo Morelos | D36: 1.909443 | E36: 5545718 | G36: 3.703704 | J36: 743379 | L36: 0.648434 | M36: 1420244 | P36: =+'1'!C36+'1'!E36+'1'!G36+'1'!I36+'1'!K36+'2'!D36+'3'!E36+'3'!J36+'3'!M36 -> 33120531
A37: Ocampo | D37: 2.434364 | E37: 7070280 | G37: 3.703704 | J37: 743379 | L37: 0.992035 | M37: 2172822 | P37: =+'1'!C37+'1'!E37+'1'!G37+'1'!I37+'1'!K37+'2'!D37+'3'!E37+'3'!J37+'3'!M37 -> 48719446
A38: Padilla | D38: 2.198113 | E38: 6384121 | G38: 3.703704 | J38: 743379 | L38: 0.929653 | M38: 2036188 | P38: =+'1'!C38+'1'!E38+'1'!G38+'1'!I38+'1'!K38+'2'!D38+'3'!E38+'3'!J38+'3'!M38 -> 48270791
A39: Palmillas | D39: 1.84201 | E39: 5349868 | G39: 3.703704 | J39: 743379 | L39: 0.590642 | M39: 1293664 | P39: =+'1'!C39+'1'!E39+'1'!G39+'1'!I39+'1'!K39+'2'!D39+'3'!E39+'3'!J39+'3'!M39 -> 29773652
A40: Reynosa | D40: 2.429221 | E40: 7055343 | H40: 6.25 | J40: 1881677 | L40: 14.713288 | M40: 32226032 | P40: =+'1'!C40+'1'!E40+'1'!G40+'1'!I40+'1'!K40+'2'!D40+'3'!E40+'3'!J40+'3'!M40 -> 1148475118
A41: Río Bravo | D41: 2.536432 | E41: 7366722 | H41: 6.25 | J41: 1881677 | L41: 3.389779 | M41: 7424522 | P41: =+'1'!C41+'1'!E41+'1'!G41+'1'!I41+'1'!K41+'2'!D41+'3'!E41+'3'!J41+'3'!M41 -> 229516899
A42: San Carlos | D42: 2.669526 | E42: 7753276 | G42: 3.703704 | J42: 743379 | L42: 0.947913 | M42: 2076183 | P42: =+'1'!C42+'1'!E42+'1'!G42+'1'!I42+'1'!K42+'2'!D42+'3'!E42+'3'!J42+'3'!M42 -> 40601693
A43: San Fernando | D43: 2.313255 | E43: 6718535 | H43: 6.25 | J43: 1881677 | L43: 1.713994 | M43: 3754105 | P43: =+'1'!C43+'1'!E43+'1'!G43+'1'!I43+'1'!K43+'2'!D43+'3'!E43+'3'!J43+'3'!M43 -> 107370832
...

Sheet 4
A1: Anexo 5
A2: VARIABLES PARA EL CÁLCULO Y DETERMINACIÓN DE LOS COEFICIENTES DE DISTRIBUCIÓN DE PARTICIPACIONES A MUNICIPIOS
A3: (CIFRAS DE IMPUESTO PREDIAL, DERECHOS DE AGUA Y DERECHOS POR SERVICIOS PARA EL CONTROL VEHICULAR EN PESOS)
A4: MUNICIPIO | B4: CENSO | C4: IMPUESTO PREDIAL | I4: DERECHOS DE AGUA | K4: SERVICIOS PARA EL CONTROL VEHICULAR
B5: POBLACIÓN 2020 | C5: 2020 | F5: 2021
C6: Impuesto | D6: Accesorios | E6: Total | F6: Impuesto | G6: Accesorios | H6: Total | I6: 2020 | J6: 2021 | K6: 2021
A7: Abasolo | B7: 9822 | C7: 799940 | D7: 57200 | E7: =+D7+C7 -> 857140 | F7: 1129620 | G7: 133151 | H7: =+G7+F7 -> 1262771 | I7: 3364316 | J7: 3206697 | K7: 1465725
A8: Aldama | B8: 28725 | C8: 3220203 | D8: 39324 | E8: =+D8+C8 -> 3259527 | F8: 3764464 | G8: 50814 | H8: =+G8+F8 -> 3815278 | I8: 10414535 | J8: 11118432 | K8: 5602395
A9: Altamira | B9: 269790 | C9: 52949106 | D9: 950884 | E9: =+D9+C9 -> 53899990 | F9: 62816030 | G9: 584606 | H9: =+G9+F9 -> 63400636 | I9: 268851462 | J9: 310965749 | K9: 56308243
A10: Antiguo Morelos | B10: 8850 | C10: 420648 | D10: 49483 | E10: =+D10+C10 -> 470131 | F10: 707788 | G10: 92073 | H10: =+G10+F10 -> 799861 | I10: 1166596 | J10: 979810 | K10: 2620321
A11: Burgos | B11: 4256 | C11: 602385 | D11: 19281 | E11: =+D11+C11 -> 621666 | F11: 608516 | G11: 40257 | H11: =+G11+F11 -> 648773 | I11: 0 | J11: 0 | K11: 1034615
A12: Bustamante | B12: 7542 | C12: 198329 | D12: 13670 | E12: =+D12+C12 -> 211999 | F12: 202638 | G12: 11191 | H12: =+G12+F12 -> 213829 | I12: 0 | J12: 0 | K12: 68218
A13: Camargo | B13: 16546 | C13: 1726838 | D13: 23800 | E13: =+D13+C13 -> 1750638 | F13: 1908398 | G13: 54153 | H13: =+G13+F13 -> 1962551 | I13: 14701620 | J13: 15678585 | K13: 5276022
A14: Casas | B14: 4143 | C14: 540403 | D14: 60380 | E14: =+D14+C14 -> 600783 | F14: 705730 | G14: 23676 | H14: =+G14+F14 -> 729406 | I14: 204600 | J14: 214346 | K14: 171111
A15: Ciudad Madero | B15: 205933 | C15: 38451948 | D15: 140008 | E15: =+D15+C15 -> 38591956 | F15: 42741048 | G15: 681482 | H15: =+G15+F15 -> 43422530 | I15: 252287803 | J15: 253510630 | K15: 95178498
A16: Cruillas | B16: 1671 | C16: 341338 | D16: 253307 | E16: =+D16+C16 -> 594645 | F16: 277418 | G16: 68399 | H16: =+G16+F16 -> 345817 | I16: 244409 | J16: 289962 | K16: 10447
A17: Gómez Farías | B17: 8288 | C17: 798642 | D17: 41311 | E17: =+D17+C17 -> 839953 | F17: 905098 | G17: 83198 | H17: =+G17+F17 -> 988296 | I17: 112691 | J17: 205305 | K17: 2466983
A18: González | B18: 41470 | C18: 4701873 | D18: 23841 | E18: =+D18+C18 -> 4725714 | F18: 5273731 | G18: 41986 | H18: =+G18+F18 -> 5315717 | I18: 19048287 | J18: 20619724 | K18: 13388702
... A49: Xicoténcatl | B49: 22229 | C49: 2644883 | D49: 111125 | E49: =+D49+C49 -> 2756008 | F49: 2735622 | G49: 249282 | H49: =+G49+F49 -> 2984904 | I49: 6534589 | J49: 7097181 | K49: 5351379
A50: TOTAL | B50: =SUM(B7:B49) -> 3527735 | C50: =SUM(C7:C49) -> 685114370 | D50: =SUM(D7:D49) -> 32857615 | E50: =SUM(E7:E49) -> 717971985 | F50: =SUM(F7:F49) -> 781643075 | G50: =SUM(G7:G49) -> 35571043 | H50: =SUM(H7:H49) -> 817214118 | I50: =SUM(I7:I49) -> 2916292635 | ... K50: =SUM(K7:K49) -> 1.0782763e+09

Sheet TENENCIA LOCAL
B1: Se derogó la TENENCIA | Q1: Version final | U1: Version
Q2: 0 | U2: 0
Q3: =ROUND(Q2*37%,0) -> 0 | U3: =ROUND(U2*37%,0) -> 0
O4: ANUAL | Q4: ANUAL | U4: ANUAL
A5: Municipio | B5: FACTOR | C5: ENERO | D5: FEBRERO | E5: MARZO | F5: ABRIL | G5: MAYO | H5: JUNIO | I5: JULIO | J5: AGOSTO | K5: SEPTIEMBRE | L5: OCTUBRE | M5: NOVIEMBRE | N5: DICIEMBRE | O5: TENENCIA LOCAL | Q5: TENENCIA LOCAL | U5: TENENCIA LOCAL
O6: 2017 | Q6: 2020 | U6: 2020
A7: ABASOLO | C7: 54722 | D7: 35534 | E7: 48699 | F7: 37620 | G7: 11871 | H7: 5797 | I7: 25602 | J7: 14890 | K7: 22315 | L7: 20870 | M7: =ROUND($M$3*B7%,0) -> 0 | N7: =ROUND($N$3*B7%,0) -> 0 | O7: =SUM(C7:N7) -> 277920 | Q7: =ROUND($Q$3*B7/100,0) -> 0 | U7: =ROUND(B7*$U$3/100,0) -> 0
A8: ALDAMA | C8: 218526 | D8: 138736 | E8: 111494 | F8: 159108 | G8: 37905 | H8: 256005 | I8: 88212 | J8: 42623 | K8: 41141 | L8: 45649 | M8: =ROUND($M$3*B8%,0) -> 0 | N8: =ROUND($N$3*B8%,0) -> 0 | O8: =SUM(C8:N8) -> 1139399 | Q8: =ROUND($Q$3*B8/100,0) -> 0 | U8: =ROUND(B8*$U$3/100,0) -> 0
A9: ALTAMIRA | C9: 2902751 | D9: 2253000 | E9: 2757256 | F9: 1982728 | G9: 767364 | H9: 1464105 | I9: 1365532 | J9: 698048 | K9: 490381 | L9: 243445 | M9: =ROUND($M$3*B9%,0) -> 0 | N9: =ROUND($N$3*B9%,0) -> 0 | O9: =SUM(C9:N9) -> 14924610 | Q9: =ROUND($Q$3*B9/100,0) -> 0 | U9: =ROUND(B9*$U$3/100,0) -> 0
A10: ANTIGUO MORELOS | C10: 36174 | D10: 15305 | E10: 45307 | F10: 6511 | G10: 5749 | H10: 0 | I10: 8349 | J10: 13017 | K10: 4769 | L10: 14217 | M10: =ROUND($M$3*B10%,0) -> 0 | N10: =ROUND($N$3*B10%,0) -> 0 | O10: =SUM(C10:N10) -> 149398 | Q10: =ROUND($Q$3*B10/100,0) -> 0 | U10: =ROUND(B10*$U$3/100,0) -> 0
A11: BURGOS | C11: 8042 | D11: 12866 | E11: 11028 | F11: 6777 | G11: 750 | H11: 5920 | I11: 4435 | J11: 5430 | K11: 1768 | L11: 2025 | M11: =ROUND($M$3*B11%,0) -> 0 | N11: =ROUND($N$3*B11%,0) -> 0 | O11: =SUM(C11:N11) -> 59041 | Q11: =ROUND($Q$3*B11/100,0) -> 0 | U11: =ROUND(B11*$U$3/100,0) -> 0
A12: BUSTAMANTE | C12: 37 | D12: 0 | E12: 0 | F12: 0 | G12: 0 | H12: 0 | I12: 0 | J12: 299 | K12: 0 | L12: 0 | M12: =ROUND($M$3*B12%,0) -> 0 | N12: =ROUND($N$3*B12%,0) -> 0 | O12: =SUM(C12:N12) -> 336 | Q12: =ROUND($Q$3*B12/100,0) -> 0 | U12: =ROUND(B12*$U$3/100,0) -> 0
A13: CAMARGO | C13: 338900 | D13: 319722 | E13: 312372 | F13: 163347 | G13: 110240 | H13: 199266 | I13: 89478 | J13: 133302 | K13: 109517 | L13: 68450 | M13: =ROUND($M$3*B13%,0) -> 0 | N13: =ROUND($N$3*B13%,0) -> 0 | O13: =SUM(C13:N13) -> 1844594 | Q13: =ROUND($Q$3*B13/100,0) -> 0 | U13: =ROUND(B13*$U$3/100,0) -> 0
A14: CASAS | C14: 0 | D14: 0 | E14: 0 | F14: 0 | G14: 0 | H14: 0 | I14: 0 | J14: 0 | K14: 0 | L14: 0 | M14: =ROUND($M$3*B14%,0) -> 0 | N14: =ROUND($N$3*B14%,0) -> 0 | O14: =SUM(C14:N14) -> 0 | Q14: =ROUND($Q$3*B14/100,0) -> 0 | U14: =ROUND(B14*$U$3/100,0) -> 0
A15: CD. MADERO | C15: 8043885 | D15: 5512760 | E15: 7389325 | F15: 3760217 | G15: 2465008 | H15: 3876978 | I15: 2765144 | J15: 1605211 | K15: 907372 | L15: 518945 | M15: =ROUND($M$3*B15%,0) -> 0 | N15: =ROUND($N$3*B15%,0) -> 0 | O15: =SUM(C15:N15) -> 36844845 | Q15: =ROUND($Q$3*B15/100,0) -> 0 | U15: =ROUND(B15*$U$3/100,0) -> 0
A16: CRUILLAS | C16: 0 | D16: 0 | E16: 0 | F16: 0 | G16: 0 | H16: 0 | I16: 0 | J16: 0 | K16: 0 | L16: 0 | M16: =ROUND($M$3*B16%,0) -> 0 | N16: =ROUND($N$3*B16%,0) -> 0 | O16: =SUM(C16:N16) -> 0 | Q16: =ROUND($Q$3*B16/100,0) -> 0 | U16: =ROUND(B16*$U$3/100,0) -> 0
A17: GOMEZ FARIAS | C17: 113246 | D17: 113825 | E17: 58005 | F17: 43598 | G17: 43831 | H17: 142511 | I17: 23278 | J17: 27531 | K17: 12343 | L17: 5809 | M17: =ROUND($M$3*B17%,0) -> 0 | N17: =ROUND($N$3*B17%,0) -> 0 | O17: =SUM(C17:N17) -> 583977 | Q17: =ROUND($Q$3*B17/100,0) -> 0 | U17: =ROUND(B17*$U$3/100,0) -> 0
A18: GONZALEZ | C18: 307965 | D18: 400179 | E18: 297661 | F18: 252376 | G18: 80794 | H18: 162585 | I18: 101406 | J18: 134472 | K18: 64852 | L18: 30962 | M18: =ROUND($M$3*B18%,0) -> 0 | N18: =ROUND($N$3*B18%,0) -> 0 | O18: =SUM(C18:N18) -> 1833252 | Q18: =ROUND($Q$3*B18/100,0) -> 0 | U18: =ROUND(B18*$U$3/100,0) -> 0
... A49: XICOTENCATL | C49: 582012 | D49: 286503 | E49: 192254 | F49: 88814 | G49: 86067 | H49: 136975 | I49: 77586 | J49: 57816 | K49: 37749 | L49: 56005 | M49: =ROUND($M$3*B49%,0) -> 0 | N49: =ROUND($N$3*B49%,0) -> 0 | O49: =SUM(C49:N49) -> 1601781 | Q49: =ROUND($Q$3*B49/100,0) -> 0 | U49: =ROUND(B49*$U$3/100,0) -> 0
A50: TOTAL: | B50: 100 | C50: =SUM(C7:C49) -> 88649685 | D50: =SUM(D7:D49) -> 72128729 | E50: =SUM(E7:E49) -> 73048118 | F50: =SUM(F7:F49) -> 45857915 | G50: =SUM(G7:G49) -> 29861068 | H50: =SUM(H7:H49) -> 41337911 | I50: =SUM(I7:I49) -> 25907858 | J50: =SUM(J7:J49) -> 20170198 | ... O50: =SUM(O7:O49) -> 4.2283781e+08 | Q50: =SUM(Q7:Q49) -> 0 | U50: =SUM(U7:U49) -> 0

Sheet TENENCIA REZAGO
B1: SE DEROGÓ LA TENENCIA
Q2: 0
Q3: =ROUND(Q2*20%,0) -> 0
O4: ANUAL | Q4: ANUAL
A5: Municipio | B5: FACTOR | C5: ENERO | D5: FEBRERO | E5: MARZO | F5: ABRIL | G5: MAYO | H5: JUNIO | I5: JULIO | J5: AGOSTO | K5: SEPTIEMBRE | L5: OCTUBRE | M5: NOVIEMBRE | N5: DICIEMBRE | O5: TENENCIA REZAGO | Q5: TENENCIA rezago
O6: 2017 | Q6: 2020
A7: ABASOLO | C7: 653 | D7: 139 | E7: 483 | F7: 878 | G7: 377 | H7: 0 | I7: 46 | J7: 5371 | K7: 232 | L7: 258 | M7: =ROUND($M$3*B7%,0) -> 0 | N7: =ROUND($N$3*B7%,0) -> 0 | O7: =SUM(C7:N7) -> 8437 | Q7: =ROUND($Q$3*B7/100,0) -> 0
A8: ALDAMA | C8: 1262 | D8: 2172 | E8: 2368 | F8: 3901 | G8: 139 | H8: 3589 | I8: 4027 | J8: 476 | K8: 13338 | L8: 1382 | M8: =ROUND($M$3*B8%,0) -> 0 | N8: =ROUND($N$3*B8%,0) -> 0 | O8: =SUM(C8:N8) -> 32654 | Q8: =ROUND($Q$3*B8/100,0) -> 0
A9: ALTAMIRA | C9: 14600 | D9: 64556 | E9: 16737 | F9: 13347 | G9: 21719 | H9: 44786 | I9: 21402 | J9: 18706 | K9: 18797 | L9: 2326 | M9: =ROUND($M$3*B9%,0) -> 0 | N9: =ROUND($N$3*B9%,0) -> 0 | O9: =SUM(C9:N9) -> 236976 | Q9: =ROUND($Q$3*B9/100,0) -> 0
A10: ANTIGUO MORELOS | C10: 2493 | D10: 1078 | E10: 644 | F10: 144 | G10: 219 | H10: 191 | I10: 46 | J10: 197 | K10: 139 | L10: 164 | M10: =ROUND($M$3*B10%,0) -> 0 | N10: =ROUND($N$3*B10%,0) -> 0 | O10: =SUM(C10:N10) -> 5315 | Q10: =ROUND($Q$3*B10/100,0) -> 0
A11: BURGOS | C11: 86 | D11: 48 | E11: 4026 | F11: 0 | G11: 67 | H11: 0 | I11: 0 | J11: 29 | K11: 36 | L11: 25 | M11: =ROUND($M$3*B11%,0) -> 0 | N11: =ROUND($N$3*B11%,0) -> 0 | O11: =SUM(C11:N11) -> 4317 | Q11: =ROUND($Q$3*B11/100,0) -> 0
A12: BUSTAMANTE | C12: 0 | D12: 0 | E12: 0 | F12: 0 | G12: 0 | H12: 0 | I12: 0 | J12: 0 | K12: 0 | L12: 0 | M12: =ROUND($M$3*B12%,0) -> 0 | N12: =ROUND($N$3*B12%,0) -> 0 | O12: =SUM(C12:N12) -> 0 | Q12: =ROUND($Q$3*B12/100,0) -> 0
A13: CAMARGO | C13: 1813 | D13: 4137 | E13: 23572 | F13: 16849 | G13: 375 | H13: 5176 | I13: 6880 | J13: 2898 | K13: 2021 | L13: 1079 | M13: =ROUND($M$3*B13%,0) -> 0 | N13: =ROUND($N$3*B13%,0) -> 0 | O13: =SUM(C13:N13) -> 64800 | Q13: =ROUND($Q$3*B13/100,0) -> 0
A14: CASAS | C14: 0 | D14: 0 | E14: 0 | F14: 0 | G14: 0 | H14: 0 | I14: 0 | J14: 0 | K14: 0 | L14: 0 | M14: =ROUND($M$3*B14%,0) -> 0 | N14: =ROUND($N$3*B14%,0) -> 0 | O14: =SUM(C14:N14) -> 0 | Q14: =ROUND($Q$3*B14/100,0) -> 0
A15: CD. MADERO | C15: 39049 | D15: 55997 | E15: 48196 | F15: 53271 | G15: 38314 | H15: 51570 | I15: 38948 | J15: 47706 | K15: 19839 | L15: 13112 | M15: =ROUND($M$3*B15%,0) -> 0 | N15: =ROUND($N$3*B15%,0) -> 0 | O15: =SUM(C15:N15) -> 406002 | Q15: =ROUND($Q$3*B15/100,0) -> 0
A16: CRUILLAS | C16: 0 | D16: 0 | E16: 0 | F16: 0 | G16: 0 | H16: 0 | I16: 0 | J16: 0 | K16: 0 | L16: 0 | M16: =ROUND($M$3*B16%,0) -> 0 | N16: =ROUND($N$3*B16%,0) -> 0 | O16: =SUM(C16:N16) -> 0 | Q16: =ROUND($Q$3*B16/100,0) -> 0
A17: GOMEZ FARIAS | C17: 946 | D17: 3139 | E17: 2912 | F17: 577 | G17: 1428 | H17: 3002 | I17: 6132 | J17: 217 | K17: 72 | L17: 69 | M17: =ROUND($M$3*B17%,0) -> 0 | N17: =ROUND($N$3*B17%,0) -> 0 | O17: =SUM(C17:N17) -> 18494 | Q17: =ROUND($Q$3*B17/100,0) -> 0
A18: GONZALEZ | C18: 11747 | D18: 15506 | E18: 1496 | F18: 6173 | G18: 2253 | H18: 3434 | I18: 1502 | J18: 12291 | K18: 4187 | L18: 307 | M18: =ROUND($M$3*B18%,0) -> 0 | N18: =ROUND($N$3*B18%,0) -> 0 | O18: =SUM(C18:N18) -> 58896 | Q18: =ROUND($Q$3*B18/100,0) -> 0
... A49: XICOTENCATL | C49: 13809 | D49: 2283 | E49: 4384 | F49: 2618 | G49: 6009 | H49: 4034 | I49: 6454 | J49: 3919 | K49: 1197 | L49: 1021 | M49: =ROUND($M$3*B49%,0) -> 0 | N49: =ROUND($N$3*B49%,0) -> 0 | O49: =SUM(C49:N49) -> 45728 | Q49: =ROUND($Q$3*B49/100,0) -> 0
A50: TOTAL: | B50: 100 | C50: =SUM(C7:C49) -> 815006 | D50: =SUM(D7:D49) -> 1059846.3 | E50: =SUM(E7:E49) -> 1331937 | F50: =SUM(F7:F49) -> 1045440 | G50: =SUM(G7:G49) -> 883221 | H50: =SUM(H7:H49) -> 1000213 | I50: =SUM(I7:I49) -> 801121 | J50: =SUM(J7:J49) -> 618181 | ... O50: =SUM(O7:O49) -> 8698559 | Q50: =SUM(Q7:Q49) -> 0
