Workbook

Sheet OCTUBRE 2025
A6: PARTICIPACIONES A MUNICIPIOS OCTUBRE 2025
A7: (ministrado en noviembre 2025)
C9: FONDO | D9: FONDO | F9: Enajenacion | G9: FONDO COMP. | H9: FONDO EXTRACCION | I9: INCENTIVOS A LA VENTA | J9: FONDO DE | K9: TENENCIA | L9: FONDO | M9: TENENCIA
A10: MUNICIPIOS | B10: FONDO GENERAL | C10: FOMENTO | D10: I.E.P.S. | E10: I.S.A.N. | F10: ISR Bienes | G10: I.S.A.N. | H10: DE HIDROCARBUROS | I10: FINAL DE GASOLINA | J10: FISCALIZACION | K10: FEDERAL | L10: ISR | M10: LOCAL | N10: TOTAL
C11: MUNICIPAL | F11: Inmuebles | I11: Y DIESEL
A13: ABASOLO | B13: 2154063 | C13: 482392 | D13: 44472 | E13: 63907 | F13: 7987 | G13: 13023 | H13: 21854 | I13: 135866 | J13: 189200 | K13: 0 | L13: 132862 | M13: 0 | N13: =SUM(B13:M13) -> 3245626
A14: ALDAMA | B14: 3845810 | C14: 861252 | D14: 79399 | E14: 114099 | F14: 14259 | G14: 23251 | H14: 55319 | I14: 183269 | J14: 161540 | K14: 19 | L14: 361968 | M14: 0 | N14: =SUM(B14:M14) -> 5700185
A15: ALTAMIRA | B15: 26671249 | C15: 5972906 | D15: 550642 | E15: 791291 | F15: 98889 | G15: 161251 | H15: 55319 | I15: 1004429 | J15: 205284 | K15: 334 | L15: 7759214 | M15: 0 | N15: =SUM(B15:M15) -> 43270808
A16: ANTIGUO MORELOS | B16: 2099244 | C16: 470116 | D16: 43340 | E16: 62281 | F16: 7783 | G16: 12692 | H16: 21855 | I16: 121547 | J16: 168878 | K16: 0 | L16: 14299 | M16: 0 | N16: =SUM(B16:M16) -> 3022035
A17: BURGOS | B17: 1711536 | C17: 383290 | D17: 35336 | E17: 50778 | F17: 6346 | G17: 10348 | H17: 21854 | I17: 206477 | J17: 352111 | K17: 0 | L17: 63523 | M17: 0 | N17: =SUM(B17:M17) -> 2841599
A18: BUSTAMANTE | B18: 1900773 | C18: 425669 | D18: 39242 | E18: 56393 | F18: 7048 | G18: 11492 | H18: 21855 | I18: 147646 | J18: 224558 | K18: 0 | L18: 28300 | M18: 0 | N18: =SUM(B18:M18) -> 2862976
A19: CAMARGO | B19: 2884113 | C19: 645884 | D19: 59544 | E19: 85567 | F19: 10693 | G19: 17437 | H19: 55319 | I19: 160807 | J19: 194146 | K19: 0 | L19: 0 | M19: 0 | N19: =SUM(B19:M19) -> 4113510
A20: CASAS | B20: 1658566 | C20: 371428 | D20: 34242 | E20: 49207 | F20: 6150 | G20: 10027 | H20: 21854 | I20: 167096 | J20: 280724 | K20: 0 | L20: 63197 | M20: 0 | N20: =SUM(B20:M20) -> 2662491
A21: CD. MADERO | B21: 22426716 | C21: 5022362 | D21: 463012 | E21: 665363 | F21: 83152 | G21: 135589 | H21: 55319 | I21: 789891 | J21: 199156 | K21: 0 | L21: 2708603 | M21: 0 | N21: =SUM(B21:M21) -> 32549163
A22: CRUILLAS | B22: 1438557 | C22: 322158 | D22: 29700 | E22: 42680 | F22: 5334 | G22: 8697 | H22: 21855 | I22: 108167 | J22: 187841 | K22: 0 | L22: 15888 | M22: 0 | N22: =SUM(B22:M22) -> 2180877
A23: GOMEZ FARIAS | B23: 2072097 | C23: 464038 | D23: 42780 | E23: 61476 | F23: 7683 | G23: 12528 | H23: 21854 | I23: 141923 | J23: 209568 | K23: 0 | L23: 26954 | M23: 0 | N23: =SUM(B23:M23) -> 3060901
A24: GONZALEZ | B24: 5085473 | C24: 1138868 | D24: 104992 | E24: 150877 | F24: 18855 | G24: 30746 | H24: 55319 | I24: 250079 | J24: 206668 | K24: 0 | L24: 0 | M24: 0 | N24: =SUM(B24:M24) -> 7041877
... A55: XICOTENCATL | B55: 3285203 | C55: 735709 | D55: 67825 | E55: 97466 | F55: 12181 | G55: 19862 | H55: 21855 | I55: 232226 | J55: 290453 | K55: 0 | L55: 40682 | M55: 0 | N55: =SUM(B55:M55) -> 4803462
A56: TOTAL: | B56: =SUM(B13:B55) -> 398435605 | C56: =SUM(C13:C55) -> 89227873 | D56: =SUM(D13:D55) -> 8225921 | E56: =SUM(E13:E55) -> 11820912 | F56: =SUM(F13:F55) -> 1477287 | G56: =SUM(G13:G55) -> 2408894 | H56: =SUM(H13:H55) -> 1475180 | I56: =SUM(I13:I55) -> 16667183 | ... N56: =SUM(N13:N55) -> 594939239
C71: PARTICIPACIONES A MUNICIPIOS OCTUBRE 2025
C72: (ministrado en noviembre 2025)
H73: ESTADO | J73: MUNICIPIOS
C75: FONDO GENERAL | H75: 1992178024 | I75: X 20%= | J75: 398435605
C77: FONDO FOMENTO MUNICIPAL | H77: 89227873 | I77: X 100% | J77: 89227873
C79: FONDO I.E.P.S | H79: 41129608 | I79: X 20%= | J79: 8225921
C81: ISAN | H81: 59104559 | I81: X 20%= | J81: 11820912
C83: ENAJENACIÓN ISR BIENES INMUEBLES | H83: 7386433 | I83: X 20%= | J83: 1477287
C85: FONDO DE COMP.DE ISAN. | H85: 12044471 | I85: X 20%= | J85: 2408894
C87: FONDO DE EXTRACC.DE HIDROCARBUROS | H87: 7375898 | I87: X 20%= | J87: 1475180
C89: INCENTIVOS A LA VENTA FINAL DE GASOLINA Y DIESEL | H89: 83335915 | I89: X 20%= | J89: 16667183
C91: FONDO DE FISCALIZACIÓN | H91: 45753610 | I91: X 20%= | J91: 9150722
C93: TENENCIA FEDERAL | H93: 3477 | I93: X 20%= | J93: 695
C95: FONDO ISR | H95: 56048967 | I95: X 100% | J95: 56048967
C97: TENENCIA LOCAL | H97: 0 | I97: X 37%= | J97: 0
H99: =SUM(H75:H97) -> 2393588835 | J99: =SUM(J75:J97) -> 594939239

Sheet 2° AJ CUATRIM'25
B7: 2° AJUSTE CUATRIMESTRAL 2025
B8: (ministrado en noviembre 2025)
D10: FONDO | E10: FONDO
B11: MUNICIPIOS | C11: FONDO GENERAL | D11: FOMENTO | E11: I.E.P.S. | F11: TOTAL
D12: MUNICIPAL
B14: ABASOLO | C14: -541426 | D14: -103275 | E14: 3872 | F14: =SUM(C14:E14) -> -640829
B15: ALDAMA | C15: -966649 | D15: -184385 | E15: 6913 | F15: =SUM(C15:E15) -> -1144121
B16: ALTAMIRA | C16: -6703849 | D16: -1278735 | E16: 47940 | F16: =SUM(C16:E16) -> -7934644
B17: ANTIGUO MORELOS | C17: -527648 | D17: -100647 | E17: 3773 | F17: =SUM(C17:E17) -> -624522
B18: BURGOS | C18: -430197 | D18: -82058 | E18: 3076 | F18: =SUM(C18:E18) -> -509179
B19: BUSTAMANTE | C19: -477762 | D19: -91131 | E19: 3417 | F19: =SUM(C19:E19) -> -565476
B20: CAMARGO | C20: -724925 | D20: -138277 | E20: 5184 | F20: =SUM(C20:E20) -> -858018
B21: CASAS | C21: -416882 | D21: -79519 | E21: 2981 | F21: =SUM(C21:E21) -> -493420
B22: CD. MADERO | C22: -5636981 | D22: -1075234 | E22: 40311 | F22: =SUM(C22:E22) -> -6671904
B23: CRUILLAS | C23: -361583 | D23: -68971 | E23: 2586 | F23: =SUM(C23:E23) -> -427968
B24: GOMEZ FARIAS | C24: -520825 | D24: -99345 | E24: 3725 | F24: =SUM(C24:E24) -> -616445
B25: GONZALEZ | C25: -1278240 | D25: -243819 | E25: 9141 | F25: =SUM(C25:E25) -> -1512918
... B56: XICOTENCATL | C56: -825740 | D56: -157507 | E56: 5905 | F56: =SUM(C56:E56) -> -977342
B57: TOTAL: | C57: =SUM(C14:C56) -> -100147254 | D57: =SUM(D14:D56) -> -19102726 | E57: =SUM(E14:E56) -> 716168 | F57: =SUM(F14:F56) -> -118533812
B67: 2° AJUSTE CUATRIMESTRAL 2025
B68: (ministrado en noviembre 2025)
D69: ESTADO | F69: MUNICIPIOS
B71: FONDO GENERAL | D71: -500736268 | E71: X 20%= | F71: -100147254
B73: FONDO FOMENTO MUNICIPAL | D73: -19102726 | E73: X 100% | F73: -19102726
B75: FONDO I.E.P.S | D75: 3580840 | E75: X 20%= | F75: 716168
D78: =SUM(D71:D76) -> -516258154 | F78: =SUM(F71:F75) -> -118533812

Sheet 3ER. AJ TRIM FISCALIZ'25
C9: 3ER. AJUSTE TRIMESTRAL FISCALIZACION 2025
C10: (ministrado en noviembre 2025)
D11: FONDO DE
C12: MUNICIPIOS | D12: FISCALIZACION | E12: TOTAL
C15: ABASOLO | D15: 655267 | E15: =SUM(D15:D15) -> 655267
C16: ALDAMA | D16: 559470 | E16: =SUM(D16:D16) -> 559470
C17: ALTAMIRA | D17: 710972 | E17: =SUM(D17:D17) -> 710972
C18: ANTIGUO MORELOS | D18: 584884 | E18: =SUM(D18:D18) -> 584884
C19: BURGOS | D19: 1219486 | E19: =SUM(D19:D19) -> 1219486
C20: BUSTAMANTE | D20: 777725 | E20: =SUM(D20:D20) -> 777725
C21: CAMARGO | D21: 672399 | E21: =SUM(D21:D21) -> 672399
C22: CASAS | D22: 972249 | E22: =SUM(D22:D22) -> 972249
C23: CD. MADERO | D23: 689750 | E23: =SUM(D23:D23) -> 689750
C24: CRUILLAS | D24: 650559 | E24: =SUM(D24:D24) -> 650559
C25: GOMEZ FARIAS | D25: 725810 | E25: =SUM(D25:D25) -> 725810
C26: GONZALEZ | D26: 715766 | E26: =SUM(D26:D26) -> 715766
... C57: XICOTENCATL | D57: 1005942 | E57: =SUM(D57:D57) -> 1005942
C58: TOTAL: | D58: =SUM(D15:D57) -> 31692249 | E58: =SUM(E15:E57) -> 31692249
B77: 3ER. AJUSTE TRIMESTRAL FISCALIZACION 2025
B78: (ministrado en noviembre 2025)
C80: ESTADO | E80: MUNICIPIOS
B82: FONDO DE FISCALIZACIÓN | C82: 158461244 | D82: X 20%= | E82: 31692249
B85: TOTAL | C85: =SUM(C82:C83) -> 158461244 | E85: =SUM(E82:E83) -> 31692249

Sheet FDO FOM MPAL CONV OCT
B8: FONDO FOMENTO MUNICIPAL CONVENIO OCTUBRE 2025
B9: (ministrado en noviembre 2025)
C10: FONDO DE
B11: MUNICIPIOS | C11: FOMENTO MUNICIPAL | D11: TOTAL
C12: 30%
B14: ABASOLO | C14: 54580 | D14: =SUM(C14:C14) -> 54580
B15: ALDAMA | C15: 115338 | D15: =SUM(C15:C15) -> 115338
B16: ALTAMIRA | C16: 2392364 | D16: =SUM(C16:C16) -> 2392364
B17: ANTIGUO MORELOS | C17: 57964 | D17: =SUM(C17:C17) -> 57964
B18: BURGOS | C18: 58035 | D18: =SUM(C18:C18) -> 58035
B19: BUSTAMANTE | C19: 65588 | D19: =SUM(C19:C19) -> 65588
B20: CAMARGO | C20: 120770 | D20: =SUM(C20:C20) -> 120770
B21: CASAS | C21: 47732 | D21: =SUM(C21:C21) -> 47732
B22: CD. MADERO | C22: 0 | D22: =SUM(C22:C22) -> 0
B23: CRUILLAS | C23: 13299 | D23: =SUM(C23:C23) -> 13299
B24: GOMEZ FARIAS | C24: 62430 | D24: =SUM(C24:C24) -> 62430
B25: GONZALEZ | C25: 366222 | D25: =SUM(C25:C25) -> 366222
... B56: XICOTENCATL | C56: 150669 | D56: =SUM(C56:C56) -> 150669
B57: TOTAL: | C57: =SUM(C14:C56) -> 19728283 | D57: =SUM(D14:D56) -> 19728283
B72: FONDO FOMENTO MUNICIPAL CONVENIO OCTUBRE 2025
B73: (ministrado en noviembre 2025)
C75: ESTADO | E75: MUNICIPIOS
B77: FONDO FOMENTO MUNICIPAL | C77: 19728283 | D77: X 100% | E77: 19728283
B80: TOTAL | C80: =SUM(C77:C78) -> 19728283 | E80: =SUM(E77:E78) -> 19728283

Sheet FFM CONVENIO 2°.AJ.CUATR'25
A6: FONDO FOMENTO MUNICIPAL CONVENIO 2° AJUSTE CUATRIMESTRAL 2025
B7: (ministrado en noviembre 2025)
C8: FONDO DE
B9: MUNICIPIOS | C9: FOMENTO MUNICIPAL | D9: TOTAL
C10: 30%
B12: ABASOLO | C12: -27540 | D12: =SUM(C12:C12) -> -27540
B13: ALDAMA | C13: -58198 | D13: =SUM(C13:C13) -> -58198
B14: ALTAMIRA | C14: -1207147 | D14: =SUM(C14:C14) -> -1207147
B15: ANTIGUO MORELOS | C15: -29247 | D15: =SUM(C15:C15) -> -29247
B16: BURGOS | C16: -29283 | D16: =SUM(C16:C16) -> -29283
B17: BUSTAMANTE | C17: -33095 | D17: =SUM(C17:C17) -> -33095
B18: CAMARGO | C18: -60938 | D18: =SUM(C18:C18) -> -60938
B19: CASAS | C19: -24085 | D19: =SUM(C19:C19) -> -24085
B20: CD. MADERO | C20: 0 | D20: =SUM(C20:C20) -> 0
B21: CRUILLAS | C21: -6711 | D21: =SUM(C21:C21) -> -6711
B22: GOMEZ FARIAS | C22: -31501 | D22: =SUM(C22:C22) -> -31501
B23: GONZALEZ | C23: -184789 | D23: =SUM(C23:C23) -> -184789
... B54: XICOTENCATL | C54: -76025 | D54: =SUM(C54:C54) -> -76025
B55: TOTAL: | C55: =SUM(C12:C54) -> -9954559 | D55: =SUM(D12:D54) -> -9954559
A70: FONDO FOMENTO MUNICIPAL CONVENIO 2° AJUSTE CUATRIMESTRAL 2025
A71: (ministrado en noviembre 2025)
C73: ESTADO | E73: MUNICIPIOS
B75: FONDO FOMENTO MUNICIPAL | C75: -9954559 | D75: X 100%= | E75: -9954559
B78: TOTAL | C78: =SUM(C75:C76) -> -9954559 | E78: =SUM(E75:E76) -> -9954559

Sheet IMPTO ENAJ.BEB CONT ALCOHOL OCT
A7: IMPUESTO ENAJENACION DE BEBIDAS CON CONTENIDO ALCOHÓLICO OCTUBRE 2025
B8: (ministrado en noviembre 2025)
C9: IMPUESTO ENAJENACION
B10: MUNICIPIOS | C10: DE BEBIDAS CON CONTENIDO | D10: TOTAL
C11: ALCOHÓLICO
B13: ABASOLO | C13: 39 | D13: =SUM(C13:C13) -> 39
B14: ALDAMA | C14: 142 | D14: =SUM(C14:C14) -> 142
B15: ALTAMIRA | C15: 44000 | D15: =SUM(C15:C15) -> 44000
B16: ANTIGUO MORELOS | C16: 0 | D16: =SUM(C16:C16) -> 0
B17: BURGOS | C17: 79 | D17: =SUM(C17:C17) -> 79
B18: BUSTAMANTE | C18: 0 | D18: =SUM(C18:C18) -> 0
B19: CAMARGO | C19: 1184 | D19: =SUM(C19:C19) -> 1184
B20: CASAS | C20: 0 | D20: =SUM(C20:C20) -> 0
B21: CD. MADERO | C21: 564 | D21: =SUM(C21:C21) -> 564
B22: CRUILLAS | C22: 14 | D22: =SUM(C22:C22) -> 14
B23: GOMEZ FARIAS | C23: 17 | D23: =SUM(C23:C23) -> 17
B24: GONZALEZ | C24: 602 | D24: =SUM(C24:C24) -> 602
... B55: XICOTENCATL | C55: 67 | D55: =SUM(C55:C55) -> 67
B56: TOTAL: | C56: =SUM(C13:C55) -> 765075 | D56: =SUM(D13:D55) -> 765075
B77: IMPUESTO ENAJENACION DE BEBIDAS CON CONTENIDO ALCOHÓLICO OCTUBRE 2025
B78: (ministrado en noviembre 2025)
C80: ESTADO | E80: MUNICIPIOS
B82: IMPUESTO ENAJENACION DE BEBIDAS CON CONTENIDO ALCOHÓLICO | C82: 3825373 | D82: X 20%= | E82: 765075
B85: TOTAL | C85: =SUM(C82:C83) -> 3825373 | E85: =SUM(E82:E83) -> 765075

Sheet ACUMULADO OCTUBRE 2025
A6: TOTAL PARTICIPACIONES A MUNICIPIOS OCTUBRE 2025
A7: (ministrado en noviembre 2025)
A8: (INCLUYE: FEPM MES OCTUBRE 2025, 2° AJUSTE CUATRIMESTRAL 2025, 3ER. AJUSTE TRIMESTRAL FISCALIZACION 2025, FONDO FOMENTO MUNICIPAL CONVENIO (OCTUBRE 2025 Y 2° AJ.CUATRIMESTRAL 2025),
A9: INCENTIVO A LA VENTA FINAL DE GASOLINA Y DIESEL, REZAGO Y FISCALIZACIÓN, REZAGO TENENCIA LOCAL , TENENCIA FEDERAL REZAGO, ISAN E IMPUESTO ENAJENACION DE BEBIDAS CON CONTENIDO ALCOHÓLICO OCTUBRE 2025 )
C10: FONDO | D10: FONDO | F10: Enajenacion | G10: FONDO COMP. | H10: FONDO EXTRACCION | I10: INCENTIVOS A LA VENTA | J10: FONDO DE | K10: TENENCIA | L10: FONDO | M10: TENENCIA | N10: FONDO DE | O10: IMPTO ENAJENACION
A11: MUNICIPIOS | B11: FONDO GENERAL | C11: FOMENTO | D11: I.E.P.S. | E11: I.S.A.N. | F11: ISR Bienes | G11: I.S.A.N. | H11: DE HIDROCARBUROS | I11: FINAL DE GASOLINA | J11: FISCALIZACION | K11: FEDERAL | L11: ISR | M11: LOCAL | N11: FOMENTO MUNICIPAL | O11: DE BEBIDAS CON CONTENIDO | P11: TOTAL
C12: MUNICIPAL | F12: Inmuebles | I12: Y DIESEL | N12: 30% | O12: ALCOHÓLICO
A14: ABASOLO | B14: 1612637 | C14: 379117 | D14: 48344 | E14: 63907 | F14: 7987 | G14: 13023 | H14: 21854 | I14: 135866 | J14: 844467 | K14: 0 | L14: 132862 | M14: 0 | N14: 27040 | O14: 39 | P14: =SUM(B14:O14) -> 3287143
A15: ALDAMA | B15: 2879161 | C15: 676867 | D15: 86312 | E15: 114099 | F15: 14259 | G15: 23251 | H15: 55319 | I15: 183269 | J15: 721010 | K15: 19 | L15: 361968 | M15: 0 | N15: 57140 | O15: 142 | P15: =SUM(B15:O15) -> 5172816
A16: ALTAMIRA | B16: 19967400 | C16: 4694171 | D16: 598582 | E16: 791291 | F16: 98889 | G16: 161251 | H16: 55319 | I16: 1004429 | J16: 916256 | K16: 334 | L16: 7759214 | M16: 0 | N16: 1185217 | O16: 44000 | P16: =SUM(B16:O16) -> 37276353
A17: ANTIGUO MORELOS | B17: 1571596 | C17: 369469 | D17: 47113 | E17: 62281 | F17: 7783 | G17: 12692 | H17: 21855 | I17: 121547 | J17: 753762 | K17: 0 | L17: 14299 | M17: 0 | N17: 28717 | O17: 0 | P17: =SUM(B17:O17) -> 3011114
A18: BURGOS | B18: 1281339 | C18: 301232 | D18: 38412 | E18: 50778 | F18: 6346 | G18: 10348 | H18: 21854 | I18: 206477 | J18: 1571597 | K18: 0 | L18: 63523 | M18: 0 | N18: 28752 | O18: 79 | P18: =SUM(B18:O18) -> 3580737
A19: BUSTAMANTE | B19: 1423011 | C19: 334538 | D19: 42659 | E19: 56393 | F19: 7048 | G19: 11492 | H19: 21855 | I19: 147646 | J19: 1002283 | K19: 0 | L19: 28300 | M19: 0 | N19: 32493 | O19: 0 | P19: =SUM(B19:O19) -> 3107718
A20: CAMARGO | B20: 2159188 | C20: 507607 | D20: 64728 | E20: 85567 | F20: 10693 | G20: 17437 | H20: 55319 | I20: 160807 | J20: 866545 | K20: 0 | L20: 0 | M20: 0 | N20: 59832 | O20: 1184 | P20: =SUM(B20:O20) -> 3988907
A21: CASAS | B21: 1241684 | C21: 291909 | D21: 37223 | E21: 49207 | F21: 6150 | G21: 10027 | H21: 21854 | I21: 167096 | J21: 1252973 | K21: 0 | L21: 63197 | M21: 0 | N21: 23647 | O21: 0 | P21: =SUM(B21:O21) -> 3164967
A22: CD. MADERO | B22: 16789735 | C22: 3947128 | D22: 503323 | E22: 665363 | F22: 83152 | G22: 135589 | H22: 55319 | I22: 789891 | J22: 888906 | K22: 0 | L22: 2708603 | M22: 0 | N22: 0 | O22: 564 | P22: =SUM(B22:O22) -> 26567573
A23: CRUILLAS | B23: 1076974 | C23: 253187 | D23: 32286 | E23: 42680 | F23: 5334 | G23: 8697 | H23: 21855 | I23: 108167 | J23: 838400 | K23: 0 | L23: 15888 | M23: 0 | N23: 6588 | O23: 14 | P23: =SUM(B23:O23) -> 2410070
A24: GOMEZ FARIAS | B24: 1551272 | C24: 364693 | D24: 46505 | E24: 61476 | F24: 7683 | G24: 12528 | H24: 21854 | I24: 141923 | J24: 935378 | K24: 0 | L24: 26954 | M24: 0 | N24: 30929 | O24: 17 | P24: =SUM(B24:O24) -> 3201212
A25: GONZALEZ | B25: 3807233 | C25: 895049 | D25: 114133 | E25: 150877 | F25: 18855 | G25: 30746 | H25: 55319 | I25: 250079 | J25: 922434 | K25: 0 | L25: 0 | M25: 0 | N25: 181433 | O25: 602 | P25: =SUM(B25:O25) -> 6426760
... A56: XICOTENCATL | B56: 2459463 | C56: 578202 | D56: 73730 | E56: 97466 | F56: 12181 | G56: 19862 | H56: 21855 | I56: 232226 | J56: 1296395 | K56: 0 | L56: 40682 | M56: 0 | N56: 74644 | O56: 67 | P56: =SUM(B56:O56) -> 4906773
A57: TOTAL: | B57: =SUM(B14:B56) -> 298288351 | C57: =SUM(C14:C56) -> 70125147 | D57: =SUM(D14:D56) -> 8942089 | E57: =SUM(E14:E56) -> 11820912 | F57: =SUM(F14:F56) -> 1477287 | G57: =SUM(G14:G56) -> 2408894 | H57: =SUM(H14:H56) -> 1475180 | I57: =SUM(I14:I56) -> 16667183 | ... P57: =SUM(P14:P56) -> 518636475
E72: TOTAL PARTICIPACIONES A MUNICIPIOS OCTUBRE 2025
E73: (ministrado en noviembre 2025)
C74: (INCLUYE: FEPM MES OCTUBRE 2025, 2° AJUSTE CUATRIMESTRAL 2025, 3ER. AJUSTE TRIMESTRAL FISCALIZACION 2025, FONDO FOMENTO MUNICIPAL CONVENIO (OCTUBRE 2025 Y 2° AJ.CUATRIMESTRAL 2025),
B75: INCENTIVO A LA VENTA FINAL DE GASOLINA Y DIESEL, REZAGO Y FISCALIZACIÓN, REZAGO TENENCIA LOCAL , TENENCIA FEDERAL REZAGO, ISAN E IMPUESTO ENAJENACION DE BEBIDAS CON CONTENIDO ALCOHÓLICO OCTUBRE 2025 )
J76: ESTADO | L76: MUNICIPIOS
E78: FONDO GENERAL | J78: 1491441756 | K78: X 20%= | L78: 298288351
E80: FONDO FOMENTO MUNICIPAL | J80: 70125147 | K80: X 100% | L80: 70125147
E82: FONDO I.E.P.S | J82: 44710448 | K82: X 20%= | L82: 8942089
E84: ISAN | J84: 59104559 | K84: X 20%= | L84: 11820912
E86: ENAJENACIÓN ISR BIENES INMUEBLES | J86: 7386433 | K86: X 20%= | L86: 1477287
E88: FONDO DE COMP.DE ISAN. | J88: 12044471 | K88: X 20%= | L88: 2408894
E90: FONDO DE EXTRACC.DE HIDROCARBUROS | J90: 7375898 | K90: X 20%= | L90: 1475180
E92: INCENTIVOS A LA VENTA FINAL DE GASOLINA Y DIESEL | J92: 83335915 | K92: X 20%= | L92: 16667183
E94: FONDO DE FISCALIZACIÓN | J94: 204214854 | K94: X 20%= | L94: 40842971
E96: TENENCIA FEDERAL | J96: 3477 | K96: X 20%= | L96: 695
E98: FONDO ISR | J98: 56048967 | K98: X 100% | L98: 56048967
E100: TENENCIA LOCAL | J100: 0 | K100: X 37%= | L100: 0
... E104: IMPUESTO ENAJENACION DE BEBIDAS CON CONTENIDO ALCOHÓLICO | J104: 3825373 | K104: X 20%= | L104: 765075
J106: =SUM(J78:J104) -> 2049391022 | L106: =SUM(L78:L104) -> 518636475

Sheet ACUM OCTUBRE 2025 DESGLOSADO
A6: TOTAL PARTICIPACIONES A MUNICIPIOS OCTUBRE 2025
A7: (ministrado en noviembre 2025)
A8: (INCLUYE: FEPM MES OCTUBRE 2025, 2° AJUSTE CUATRIMESTRAL 2025, 3ER. AJUSTE TRIMESTRAL FISCALIZACION 2025, FONDO FOMENTO MUNICIPAL CONVENIO (OCTUBRE 2025 Y 2° AJ.CUATRIMESTRAL 2025),
A9: INCENTIVO A LA VENTA FINAL DE GASOLINA Y DIESEL, REZAGO Y FISCALIZACIÓN, REZAGO TENENCIA LOCAL , TENENCIA FEDERAL REZAGO, ISAN E IMPUESTO ENAJENACION DE BEBIDAS CON CONTENIDO ALCOHÓLICO OCTUBRE 2025 )
C10: FONDO | D10: FONDO | F10: Enajenacion | G10: FONDO COMP. | H10: FONDO EXTRACCION | I10: INCENTIVOS A LA VENTA | J10: FONDO DE | K10: TENENCIA | L10: FONDO | M10: TENENCIA | N10: FONDO FOMENTO | O10: IMPTO ENAJENACION
A11: MUNICIPIOS | B11: FONDO GENERAL | C11: FOMENTO | D11: I.E.P.S. | E11: I.S.A.N. | F11: ISR Bienes | G11: I.S.A.N. | H11: DE HIDROCARBUROS | I11: FINAL DE GASOLINA | J11: FISCALIZACION | K11: FEDERAL | L11: ISR | M11: LOCAL | N11: MUNICIPAL | O11: DE BEBIDAS CON CONTENIDO | P11: TOTAL
C12: MUNICIPAL | F12: Inmuebles | I12: Y DIESEL | N12: CONVENIO | O12: ALCOHÓLICO
A14: ABASOLO | B14: =SUM(B15:B20) -> 1612637 | C14: =SUM(C15:C20) -> 379117 | D14: =SUM(D15:D20) -> 48344 | E14: =SUM(E15:E20) -> 63907 | F14: =SUM(F15:F20) -> 7987 | G14: =SUM(G15:G20) -> 13023 | H14: =SUM(H15:H20) -> 21854 | I14: =SUM(I15:I20) -> 135866 | ... O14: =SUM(O15:O20) -> 39 | P14: =SUM(B14:O14) -> 3287143
A15: OCTUBRE 2025 | B15: 2154063 | C15: 482392 | D15: 44472 | E15: 63907 | F15: 7987 | G15: 13023 | H15: 21854 | I15: 135866 | J15: 189200 | K15: 0 | L15: 132862 | M15: 0 | N15: 54580 | O15: 39 | P15: =SUM(B15:O15) -> 3300245
A16: DIF CAMBIO COEF | P16: =SUM(B16:O16) -> 0
A17: FEIEF | P17: =SUM(B17:O17) -> 0
A18: AJUSTE DEFINITIVO | P18: =SUM(B18:O18) -> 0
A19: AJUSTE CUATRIMESTRAL | B19: -541426 | C19: -103275 | D19: 3872 | N19: -27540 | P19: =SUM(B19:O19) -> -668369
A20: AJUSTE TRIMESTRAL | J20: 655267 | P20: =SUM(B20:O20) -> 655267
A21: ALDAMA | B21: =SUM(B22:B27) -> 2879161 | C21: =SUM(C22:C27) -> 676867 | D21: =SUM(D22:D27) -> 86312 | E21: =SUM(E22:E27) -> 114099 | F21: =SUM(F22:F27) -> 14259 | G21: =SUM(G22:G27) -> 23251 | H21: =SUM(H22:H27) -> 55319 | I21: =SUM(I22:I27) -> 183269 | ... O21: =SUM(O22:O27) -> 142 | P21: =SUM(B21:O21) -> 5172816
A22: OCTUBRE 2025 | B22: 3845810 | C22: 861252 | D22: 79399 | E22: 114099 | F22: 14259 | G22: 23251 | H22: 55319 | I22: 183269 | J22: 161540 | K22: 19 | L22: 361968 | M22: 0 | N22: 115338 | O22: 142 | P22: =SUM(B22:O22) -> 5815665
A23: DIF CAMBIO COEF | P23: =SUM(B23:O23) -> 0
A24: FEIEF | P24: =SUM(B24:O24) -> 0
A25: AJUSTE DEFINITIVO | P25: =SUM(B25:O25) -> 0
A26: AJUSTE CUATRIMESTRAL | B26: -966649 | C26: -184385 | D26: 6913 | N26: -58198 | P26: =SUM(B26:O26) -> -1202319
A27: AJUSTE TRIMESTRAL | J27: 559470 | P27: =SUM(B27:O27) -> 559470
A28: ALTAMIRA | B28: =SUM(B29:B34) -> 19967400 | C28: =SUM(C29:C34) -> 4694171 | D28: =SUM(D29:D34) -> 598582 | E28: =SUM(E29:E34) -> 791291 | F28: =SUM(F29:F34) -> 98889 | G28: =SUM(G29:G34) -> 161251 | H28: =SUM(H29:H34) -> 55319 | I28: =SUM(I29:I34) -> 1004429 | ... O28: =SUM(O29:O34) -> 44000 | P28: =SUM(B28:O28) -> 37276353
A29: OCTUBRE 2025 | B29: 26671249 | C29: 5972906 | D29: 550642 | E29: 791291 | F29: 98889 | G29: 161251 | H29: 55319 | I29: 1004429 | J29: 205284 | K29: 334 | L29: 7759214 | M29: 0 | N29: 2392364 | O29: 44000 | P29: =SUM(B29:O29) -> 45707172
A30: DIF CAMBIO COEF | P30: =SUM(B30:O30) -> 0
A31: FEIEF | P31: =SUM(B31:O31) -> 0
A32: AJUSTE DEFINITIVO | P32: =SUM(B32:O32) -> 0
A33: AJUSTE CUATRIMESTRAL | B33: -6703849 | C33: -1278735 | D33: 47940 | N33: -1207147 | P33: =SUM(B33:O33) -> -9141791
A34: AJUSTE TRIMESTRAL | J34: 710972 | P34: =SUM(B34:O34) -> 710972
A35: ANTIGUO MORELOS | B35: =SUM(B36:B41) -> 1571596 | C35: =SUM(C36:C41) -> 369469 | D35: =SUM(D36:D41) -> 47113 | E35: =SUM(E36:E41) -> 62281 | F35: =SUM(F36:F41) -> 7783 | G35: =SUM(G36:G41) -> 12692 | H35: =SUM(H36:H41) -> 21855 | I35: =SUM(I36:I41) -> 121547 | ... O35: =SUM(O36:O41) -> 0 | P35: =SUM(B35:O35) -> 3011114
A36: OCTUBRE 2025 | B36: 2099244 | C36: 470116 | D36: 43340 | E36: 62281 | F36: 7783 | G36: 12692 | H36: 21855 | I36: 121547 | J36: 168878 | K36: 0 | L36: 14299 | M36: 0 | N36: 57964 | O36: 0 | P36: =SUM(B36:O36) -> 3079999
A37: DIF CAMBIO COEF | P37: =SUM(B37:O37) -> 0
A38: FEIEF | P38: =SUM(B38:O38) -> 0
A39: AJUSTE DEFINITIVO | P39: =SUM(B39:O39) -> 0
A40: AJUSTE CUATRIMESTRAL | B40: -527648 | C40: -100647 | D40: 3773 | N40: -29247 | P40: =SUM(B40:O40) -> -653769
A41: AJUSTE TRIMESTRAL | J41: 584884 | P41: =SUM(B41:O41) -> 584884
A42: BURGOS | B42: =SUM(B43:B48) -> 1281339 | C42: =SUM(C43:C48) -> 301232 | D42: =SUM(D43:D48) -> 38412 | E42: =SUM(E43:E48) -> 50778 | F42: =SUM(F43:F48) -> 6346 | G42: =SUM(G43:G48) -> 10348 | H42: =SUM(H43:H48) -> 21854 | I42: =SUM(I43:I48) -> 206477 | ... O42: =SUM(O43:O48) -> 79 | P42: =SUM(B42:O42) -> 3580737
A43: OCTUBRE 2025 | B43: 1711536 | C43: 383290 | D43: 35336 | E43: 50778 | F43: 6346 | G43: 10348 | H43: 21854 | I43: 206477 | J43: 352111 | K43: 0 | L43: 63523 | M43: 0 | N43: 58035 | O43: 79 | P43: =SUM(B43:O43) -> 2899713
A44: DIF CAMBIO COEF | P44: =SUM(B44:O44) -> 0
A45: FEIEF | P45: =SUM(B45:O45) -> 0
A46: AJUSTE DEFINITIVO | P46: =SUM(B46:O46) -> 0
...

Sheet NOVIEMBRE 2025
A6: PARTICIPACIONES A MUNICIPIOS NOVIEMBRE 2025
A7: (ministrado en diciembre 2025)
C9: FONDO | D9: FONDO | F9: Enajenacion | G9: FONDO COMP. | H9: FONDO EXTRACCION | I9: INCENTIVOS A LA VENTA | J9: FONDO DE | K9: TENENCIA | L9: FONDO | M9: TENENCIA
A10: MUNICIPIOS | B10: FONDO GENERAL | C10: FOMENTO | D10: I.E.P.S. | E10: I.S.A.N. | F10: ISR Bienes | G10: I.S.A.N. | H10: DE HIDROCARBUROS | I10: FINAL DE GASOLINA | J10: FISCALIZACION | K10: FEDERAL | L10: ISR | M10: LOCAL | N10: TOTAL
C11: MUNICIPAL | F11: Inmuebles | I11: Y DIESEL
A13: ABASOLO | B13: 2028065 | C13: 457918 | D13: 38676 | E13: 67766 | F13: 13668 | G13: 13023 | H13: 22071 | I13: 149463 | J13: 189200 | K13: 0 | L13: 0 | M13: 0 | N13: =SUM(B13:M13) -> 2979850 | W13: ='[1]OCT''24 9 11(15-NOV-24) MIKE'!D5+'[1]9 11 2A PTE COMPL SEP''24(25MIKE'!D5+'[1]NOV''24 INCENTIVOS (10-DIC4)MIKE'!F5 -> 241508.14
A14: ALDAMA | B14: 3620854 | C14: 817557 | D14: 69051 | E14: 120988 | F14: 24403 | G14: 23251 | H14: 55868 | I14: 201609 | J14: 161540 | K14: 29 | L14: 0 | M14: 0 | N14: =SUM(B14:M14) -> 5095150 | W14: ='[1]OCT''24 9 11(15-NOV-24) MIKE'!D6+'[1]9 11 2A PTE COMPL SEP''24(25MIKE'!D6+'[1]NOV''24 INCENTIVOS (10-DIC4)MIKE'!F6 -> 313287.24
A15: ALTAMIRA | B15: 25111158 | C15: 5669878 | D15: 478879 | E15: 839067 | F15: 169237 | G15: 161251 | H15: 55868 | I15: 1104942 | J15: 205284 | K15: 73 | L15: 7856395 | M15: 0 | N15: =SUM(B15:M15) -> 41652032 | W15: ='[1]OCT''24 9 11(15-NOV-24) MIKE'!D7+'[1]9 11 2A PTE COMPL SEP''24(25MIKE'!D7+'[1]NOV''24 INCENTIVOS (10-DIC4)MIKE'!F7 -> 1598585
A16: ANTIGUO MORELOS | B16: 1976453 | C16: 446265 | D16: 37692 | E16: 66041 | F16: 13320 | G16: 12692 | H16: 22071 | I16: 133711 | J16: 168878 | K16: 0 | L16: 870 | M16: 0 | N16: =SUM(B16:M16) -> 2877993 | W16: ='[1]OCT''24 9 11(15-NOV-24) MIKE'!D8+'[1]9 11 2A PTE COMPL SEP''24(25MIKE'!D8+'[1]NOV''24 INCENTIVOS (10-DIC4)MIKE'!F8 -> 263798.2
A17: BURGOS | B17: 1611423 | C17: 363844 | D17: 30730 | E17: 53844 | F17: 10860 | G17: 10348 | H17: 22071 | I17: 227139 | J17: 352111 | K17: 0 | L17: 63523 | M17: 0 | N17: =SUM(B17:M17) -> 2745893 | W17: ='[1]OCT''24 9 11(15-NOV-24) MIKE'!D9+'[1]9 11 2A PTE COMPL SEP''24(25MIKE'!D9+'[1]NOV''24 INCENTIVOS (10-DIC4)MIKE'!F9 -> 184056.23
A18: BUSTAMANTE | B18: 1789591 | C18: 404073 | D18: 34128 | E18: 59798 | F18: 12061 | G18: 11492 | H18: 22071 | I18: 162421 | J18: 224558 | K18: 0 | L18: 0 | M18: 0 | N18: =SUM(B18:M18) -> 2720193 | W18: ='[1]OCT''24 9 11(15-NOV-24) MIKE'!D10+'[1]9 11 2A PTE COMPL SEP''24(25MIKE'!D10+'[1]NOV''24 INCENTIVOS (10-DIC4)MIKE'!F10 -> 117096.29
A19: CAMARGO | B19: 2715411 | C19: 613116 | D19: 51784 | E19: 90733 | F19: 18301 | G19: 17437 | H19: 55868 | I19: 176899 | J19: 194146 | K19: 0 | L19: 728757 | M19: 0 | N19: =SUM(B19:M19) -> 4662452 | W19: ='[1]OCT''24 9 11(15-NOV-24) MIKE'!D11+'[1]9 11 2A PTE COMPL SEP''24(25MIKE'!D11+'[1]NOV''24 INCENTIVOS (10-DIC4)MIKE'!F11 -> 269479.2
A20: CASAS | B20: 1561551 | C20: 352584 | D20: 29779 | E20: 52178 | F20: 10524 | G20: 10027 | H20: 22071 | I20: 183817 | J20: 280724 | K20: 0 | L20: 125375 | M20: 0 | N20: =SUM(B20:M20) -> 2628630 | W20: ='[1]OCT''24 9 11(15-NOV-24) MIKE'!D12+'[1]9 11 2A PTE COMPL SEP''24(25MIKE'!D12+'[1]NOV''24 INCENTIVOS (10-DIC4)MIKE'!F12 -> 208368.26
A21: CD. MADERO | B21: 21114903 | C21: 4767559 | D21: 402669 | E21: 705536 | F21: 142304 | G21: 135589 | H21: 55868 | I21: 868935 | J21: 199156 | K21: 0 | L21: 2890398 | M21: 0 | N21: =SUM(B21:M21) -> 31282917 | W21: ='[1]OCT''24 9 11(15-NOV-24) MIKE'!D13+'[1]9 11 2A PTE COMPL SEP''24(25MIKE'!D13+'[1]NOV''24 INCENTIVOS (10-DIC4)MIKE'!F13 -> 1259463.3
A22: CRUILLAS | B22: 1354412 | C22: 305814 | D22: 25829 | E22: 45256 | F22: 9128 | G22: 8697 | H22: 22071 | I22: 118991 | J22: 187841 | K22: 0 | L22: 0 | M22: 0 | N22: =SUM(B22:M22) -> 2078039 | W22: ='[1]OCT''24 9 11(15-NOV-24) MIKE'!D14+'[1]9 11 2A PTE COMPL SEP''24(25MIKE'!D14+'[1]NOV''24 INCENTIVOS (10-DIC4)MIKE'!F14 -> 158559.34
A23: GOMEZ FARIAS | B23: 1950896 | C23: 440495 | D23: 37204 | E23: 65188 | F23: 13148 | G23: 12528 | H23: 22071 | I23: 156125 | J23: 209568 | K23: 0 | L23: 33344 | M23: 0 | N23: =SUM(B23:M23) -> 2940567 | W23: ='[1]OCT''24 9 11(15-NOV-24) MIKE'!D15+'[1]9 11 2A PTE COMPL SEP''24(25MIKE'!D15+'[1]NOV''24 INCENTIVOS (10-DIC4)MIKE'!F15 -> 218376.3
A24: GONZALEZ | B24: 4788007 | C24: 1081089 | D24: 91309 | E24: 159987 | F24: 32269 | G24: 30746 | H24: 55868 | I24: 275104 | J24: 206668 | K24: 0 | L24: 0 | M24: 0 | N24: =SUM(B24:M24) -> 6721047 | W24: ='[1]OCT''24 9 11(15-NOV-24) MIKE'!D16+'[1]9 11 2A PTE COMPL SEP''24(25MIKE'!D16+'[1]NOV''24 INCENTIVOS (10-DIC4)MIKE'!F16 -> 403805.44
... A55: XICOTENCATL | B55: 3093042 | C55: 698383 | D55: 58986 | E55: 103351 | F55: 20846 | G55: 19862 | H55: 22071 | I55: 255465 | J55: 290453 | K55: 0 | L55: 0 | M55: 0 | N55: =SUM(B55:M55) -> 4562459 | W55: ='[1]OCT''24 9 11(15-NOV-24) MIKE'!D47+'[1]9 11 2A PTE COMPL SEP''24(25MIKE'!D47+'[1]NOV''24 INCENTIVOS (10-DIC4)MIKE'!F47 -> 314346.59
A56: TOTAL: | B56: =SUM(B13:B55) -> 375129789 | C56: =SUM(C13:C55) -> 84701010 | D56: =SUM(D13:D55) -> 7153857 | E56: =SUM(E13:E55) -> 12534633 | F56: =SUM(F13:F55) -> 2528188 | G56: =SUM(G13:G55) -> 2408894 | H56: =SUM(H13:H55) -> 1489804 | I56: =SUM(I13:I55) -> 18335063 | ... N56: =SUM(N13:N55) -> 571330925 | W56: =SUM(W13:W55) -> 25878308
C73: PARTICIPACIONES A MUNICIPIOS NOVIEMBRE 2025
C74: (ministrado en diciembre 2025)
H75: ESTADO | J75: MUNICIPIOS
C77: FONDO GENERAL | H77: 1875648943 | I77: X 20%= | J77: 375129789
C79: FONDO FOMENTO MUNICIPAL | H79: 84701010 | I79: X 100% | J79: 84701010
C81: FONDO I.E.P.S | H81: 35769285 | I81: X 20%= | J81: 7153857
C83: ISAN | H83: 62673167 | I83: X 20%= | J83: 12534633
C85: ENAJENACIÓN ISR BIENES INMUEBLES | H85: 12640940 | I85: X 20%= | J85: 2528188
C87: FONDO DE COMP.DE ISAN. | H87: 12044471 | I87: X 20%= | J87: 2408894
C89: FONDO DE EXTRACC.DE HIDROCARBUROS | H89: 7449021 | I89: X 20%= | J89: 1489804
C91: INCENTIVOS A LA VENTA FINAL DE GASOLINA Y DIESEL | H91: 91675313 | I91: X 20%= | J91: 18335063
C93: FONDO DE FISCALIZACIÓN | H93: 45753610 | I93: X 20%= | J93: 9150722
C95: TENENCIA FEDERAL | H95: 876 | I95: X 20%= | J95: 175
C97: FONDO ISR | H97: 57898790 | I97: X 100% | J97: 57898790
C99: TENENCIA LOCAL | H99: 0 | I99: X 37%= | J99: 0
H101: =SUM(H77:H99) -> 2286255426 | J101: =SUM(J77:J99) -> 571330925

Sheet FDO FOM MPAL CONV NOV
B6: FONDO FOMENTO MUNICIPAL CONVENIO NOVIEMBRE 2025
B7: (ministrado en diciembre 2025)
C8: FONDO DE
B9: MUNICIPIOS | C9: FOMENTO MUNICIPAL | D9: TOTAL
C10: 30%
B12: ABASOLO | C12: 48359 | D12: =SUM(C12:C12) -> 48359
B13: ALDAMA | C13: 102193 | D13: =SUM(C13:C13) -> 102193
B14: ALTAMIRA | C14: 2119699 | D14: =SUM(C14:C14) -> 2119699
B15: ANTIGUO MORELOS | C15: 51357 | D15: =SUM(C15:C15) -> 51357
B16: BURGOS | C16: 51421 | D16: =SUM(C16:C16) -> 51421
B17: BUSTAMANTE | C17: 58113 | D17: =SUM(C17:C17) -> 58113
B18: CAMARGO | C18: 107005 | D18: =SUM(C18:C18) -> 107005
B19: CASAS | C19: 42292 | D19: =SUM(C19:C19) -> 42292
B20: CD. MADERO | C20: 0 | D20: =SUM(C20:C20) -> 0
B21: CRUILLAS | C21: 11784 | D21: =SUM(C21:C21) -> 11784
B22: GOMEZ FARIAS | C22: 55314 | D22: =SUM(C22:C22) -> 55314
B23: GONZALEZ | C23: 324483 | D23: =SUM(C23:C23) -> 324483
... B54: XICOTENCATL | C54: 133496 | D54: =SUM(C54:C54) -> 133496
B55: TOTAL: | C55: =SUM(C12:C54) -> 17479786 | D55: =SUM(D12:D54) -> 17479786
B75: FONDO FOMENTO MUNICIPAL CONVENIO NOVIEMBRE 2025
B76: (ministrado en diciembre 2025)
C78: ESTADO | E78: MUNICIPIOS
B80: FONDO FOMENTO MUNICIPAL | C80: 17479786 | D80: X 100%= | E80: 17479786
B83: TOTAL | C83: =SUM(C80:C81) -> 17479786 | E83: =SUM(E80:E81) -> 17479786

Sheet IMPTO ENAJ.BEB CONT ALCOHOL NOV
A6: IMPUESTO ENAJENACION DE BEBIDAS CON CONTENIDO ALCOHÓLICO NOVIEMBRE 2025
B7: (ministrado en diciembre 2025)
C8: IMPUESTO ENAJENACION
B9: MUNICIPIOS | C9: DE BEBIDAS CON CONTENIDO | D9: TOTAL
C10: ALCOHÓLICO
B12: ABASOLO | C12: 54 | D12: =SUM(C12:C12) -> 54
B13: ALDAMA | C13: 60 | D13: =SUM(C13:C13) -> 60
B14: ALTAMIRA | C14: 51043 | D14: =SUM(C14:C14) -> 51043
B15: ANTIGUO MORELOS | C15: 27 | D15: =SUM(C15:C15) -> 27
B16: BURGOS | C16: 105 | D16: =SUM(C16:C16) -> 105
B17: BUSTAMANTE | C17: 0 | D17: =SUM(C17:C17) -> 0
B18: CAMARGO | C18: 1064 | D18: =SUM(C18:C18) -> 1064
B19: CASAS | C19: 0 | D19: =SUM(C19:C19) -> 0
B20: CD. MADERO | C20: 521 | D20: =SUM(C20:C20) -> 521
B21: CRUILLAS | C21: 46 | D21: =SUM(C21:C21) -> 46
B22: GOMEZ FARIAS | C22: 30 | D22: =SUM(C22:C22) -> 30
B23: GONZALEZ | C23: 278 | D23: =SUM(C23:C23) -> 278
... B54: XICOTENCATL | C54: 41 | D54: =SUM(C54:C54) -> 41
B55: TOTAL: | C55: =SUM(C12:C54) -> 673687 | D55: =SUM(D12:D54) -> 673687
B80: IMPUESTO ENAJENACION DE BEBIDAS CON CONTENIDO ALCOHÓLICO NOVIEMBRE 2025
B81: (ministrado en diciembre 2025)
C83: ESTADO | E83: MUNICIPIOS
B85: IMPUESTO ENAJENACION DE BEBIDAS CON CONTENIDO ALCOHÓLICO | C85: 3368434 | D85: X 20%= | E85: 673687
B88: TOTAL | C88: =SUM(C85:C86) -> 3368434 | E88: =SUM(E85:E86) -> 673687

Sheet ACUMULADO NOVIEMBRE 2025
A6: TOTAL PARTICIPACIONES A MUNICIPIOS NOVIEMBRE 2025
A7: (ministrado en diciembre 2025)
A8: (INCLUYE: FEPM MES NOVIEMBRE 2025, FONDO FOMENTO MUNICIPAL CONVENIO (NOVIEMBRE 2025)
A9: INCENTIVO A LA VENTA FINAL DE GASOLINA Y DIESEL, REZAGO Y FISCALIZACIÓN, REZAGO TENENCIA LOCAL , TENENCIA FEDERAL REZAGO, ISAN E IMPUESTO ENAJENACION DE BEBIDAS CON CONTENIDO ALCOHÓLICO NOVIEMBRE 2025 )
C10: FONDO | D10: FONDO | F10: Enajenacion | G10: FONDO COMP. | H10: FONDO EXTRACCION | I10: INCENTIVOS A LA VENTA | J10: FONDO DE | K10: TENENCIA | L10: FONDO | M10: TENENCIA | N10: FONDO DE | O10: IMPTO ENAJENACION
A11: MUNICIPIOS | B11: FONDO GENERAL | C11: FOMENTO | D11: I.E.P.S. | E11: I.S.A.N. | F11: ISR Bienes | G11: I.S.A.N. | H11: DE HIDROCARBUROS | I11: FINAL DE GASOLINA | J11: FISCALIZACION | K11: FEDERAL | L11: ISR | M11: LOCAL | N11: FOMENTO MUNICIPAL | O11: DE BEBIDAS CON CONTENIDO | P11: TOTAL
C12: MUNICIPAL | F12: Inmuebles | I12: Y DIESEL | N12: 30% | O12: ALCOHÓLICO
A14: ABASOLO | B14: 2028065 | C14: 457918 | D14: 38676 | E14: 67766 | F14: 13668 | G14: 13023 | H14: 22071 | I14: 149463 | J14: 189200 | K14: 0 | L14: 0 | M14: 0 | N14: 48359 | O14: 54 | P14: =SUM(B14:O14) -> 3028263 | R14: ='[2]NOVIEMBRE 2025'!N13+#REF!+'[2]FDO FOM MPAL CONVENIO'!D12+'[2]IMPTO ENAJ.BEBIDAS CONT ALCOHOL'!D12 -> #REF! | S14: =R14-P14 -> #REF!
A15: ALDAMA | B15: 3620854 | C15: 817557 | D15: 69051 | E15: 120988 | F15: 24403 | G15: 23251 | H15: 55868 | I15: 201609 | J15: 161540 | K15: 29 | L15: 0 | M15: 0 | N15: 102193 | O15: 60 | P15: =SUM(B15:O15) -> 5197403 | R15: ='[2]NOVIEMBRE 2025'!N14+#REF!+'[2]FDO FOM MPAL CONVENIO'!D13+'[2]IMPTO ENAJ.BEBIDAS CONT ALCOHOL'!D13 -> #REF! | S15: =R15-P15 -> #REF!
A16: ALTAMIRA | B16: 25111158 | C16: 5669878 | D16: 478879 | E16: 839067 | F16: 169237 | G16: 161251 | H16: 55868 | I16: 1104942 | J16: 205284 | K16: 73 | L16: 7856395 | M16: 0 | N16: 2119699 | O16: 51043 | P16: =SUM(B16:O16) -> 43822774 | R16: ='[2]NOVIEMBRE 2025'!N15+#REF!+'[2]FDO FOM MPAL CONVENIO'!D14+'[2]IMPTO ENAJ.BEBIDAS CONT ALCOHOL'!D14 -> #REF! | S16: =R16-P16 -> #REF!
A17: ANTIGUO MORELOS | B17: 1976453 | C17: 446265 | D17: 37692 | E17: 66041 | F17: 13320 | G17: 12692 | H17: 22071 | I17: 133711 | J17: 168878 | K17: 0 | L17: 870 | M17: 0 | N17: 51357 | O17: 27 | P17: =SUM(B17:O17) -> 2929377 | R17: ='[2]NOVIEMBRE 2025'!N16+#REF!+'[2]FDO FOM MPAL CONVENIO'!D15+'[2]IMPTO ENAJ.BEBIDAS CONT ALCOHOL'!D15 -> #REF! | S17: =R17-P17 -> #REF!
A18: BURGOS | B18: 1611423 | C18: 363844 | D18: 30730 | E18: 53844 | F18: 10860 | G18: 10348 | H18: 22071 | I18: 227139 | J18: 352111 | K18: 0 | L18: 63523 | M18: 0 | N18: 51421 | O18: 105 | P18: =SUM(B18:O18) -> 2797419 | R18: ='[2]NOVIEMBRE 2025'!N17+#REF!+'[2]FDO FOM MPAL CONVENIO'!D16+'[2]IMPTO ENAJ.BEBIDAS CONT ALCOHOL'!D16 -> #REF! | S18: =R18-P18 -> #REF!
A19: BUSTAMANTE | B19: 1789591 | C19: 404073 | D19: 34128 | E19: 59798 | F19: 12061 | G19: 11492 | H19: 22071 | I19: 162421 | J19: 224558 | K19: 0 | L19: 0 | M19: 0 | N19: 58113 | O19: 0 | P19: =SUM(B19:O19) -> 2778306 | R19: ='[2]NOVIEMBRE 2025'!N18+#REF!+'[2]FDO FOM MPAL CONVENIO'!D17+'[2]IMPTO ENAJ.BEBIDAS CONT ALCOHOL'!D17 -> #REF! | S19: =R19-P19 -> #REF!
A20: CAMARGO | B20: 2715411 | C20: 613116 | D20: 51784 | E20: 90733 | F20: 18301 | G20: 17437 | H20: 55868 | I20: 176899 | J20: 194146 | K20: 0 | L20: 728757 | M20: 0 | N20: 107005 | O20: 1064 | P20: =SUM(B20:O20) -> 4770521 | R20: ='[2]NOVIEMBRE 2025'!N19+#REF!+'[2]FDO FOM MPAL CONVENIO'!D18+'[2]IMPTO ENAJ.BEBIDAS CONT ALCOHOL'!D18 -> #REF! | S20: =R20-P20 -> #REF!
A21: CASAS | B21: 1561551 | C21: 352584 | D21: 29779 | E21: 52178 | F21: 10524 | G21: 10027 | H21: 22071 | I21: 183817 | J21: 280724 | K21: 0 | L21: 125375 | M21: 0 | N21: 42292 | O21: 0 | P21: =SUM(B21:O21) -> 2670922 | R21: ='[2]NOVIEMBRE 2025'!N20+#REF!+'[2]FDO FOM MPAL CONVENIO'!D19+'[2]IMPTO ENAJ.BEBIDAS CONT ALCOHOL'!D19 -> #REF! | S21: =R21-P21 -> #REF!
A22: CD. MADERO | B22: 21114903 | C22: 4767559 | D22: 402669 | E22: 705536 | F22: 142304 | G22: 135589 | H22: 55868 | I22: 868935 | J22: 199156 | K22: 0 | L22: 2890398 | M22: 0 | N22: 0 | O22: 521 | P22: =SUM(B22:O22) -> 31283438 | R22: ='[2]NOVIEMBRE 2025'!N21+#REF!+'[2]FDO FOM MPAL CONVENIO'!D20+'[2]IMPTO ENAJ.BEBIDAS CONT ALCOHOL'!D20 -> #REF! | S22: =R22-P22 -> #REF!
A23: CRUILLAS | B23: 1354412 | C23: 305814 | D23: 25829 | E23: 45256 | F23: 9128 | G23: 8697 | H23: 22071 | I23: 118991 | J23: 187841 | K23: 0 | L23: 0 | M23: 0 | N23: 11784 | O23: 46 | P23: =SUM(B23:O23) -> 2089869 | R23: ='[2]NOVIEMBRE 2025'!N22+#REF!+'[2]FDO FOM MPAL CONVENIO'!D21+'[2]IMPTO ENAJ.BEBIDAS CONT ALCOHOL'!D21 -> #REF! | S23: =R23-P23 -> #REF!
A24: GOMEZ FARIAS | B24: 1950896 | C24: 440495 | D24: 37204 | E24: 65188 | F24: 13148 | G24: 12528 | H24: 22071 | I24: 156125 | J24: 209568 | K24: 0 | L24: 33344 | M24: 0 | N24: 55314 | O24: 30 | P24: =SUM(B24:O24) -> 2995911 | R24: ='[2]NOVIEMBRE 2025'!N23+#REF!+'[2]FDO FOM MPAL CONVENIO'!D22+'[2]IMPTO ENAJ.BEBIDAS CONT ALCOHOL'!D22 -> #REF! | S24: =R24-P24 -> #REF!
A25: GONZALEZ | B25: 4788007 | C25: 1081089 | D25: 91309 | E25: 159987 | F25: 32269 | G25: 30746 | H25: 55868 | I25: 275104 | J25: 206668 | K25: 0 | L25: 0 | M25: 0 | N25: 324483 | O25: 278 | P25: =SUM(B25:O25) -> 7045808 | R25: ='[2]NOVIEMBRE 2025'!N24+#REF!+'[2]FDO FOM MPAL CONVENIO'!D23+'[2]IMPTO ENAJ.BEBIDAS CONT ALCOHOL'!D23 -> #REF! | S25: =R25-P25 -> #REF!
... A56: XICOTENCATL | B56: 3093042 | C56: 698383 | D56: 58986 | E56: 103351 | F56: 20846 | G56: 19862 | H56: 22071 | I56: 255465 | J56: 290453 | K56: 0 | L56: 0 | M56: 0 | N56: 133496 | O56: 41 | P56: =SUM(B56:O56) -> 4695996 | R56: ='[2]NOVIEMBRE 2025'!N55+#REF!+'[2]FDO FOM MPAL CONVENIO'!D54+'[2]IMPTO ENAJ.BEBIDAS CONT ALCOHOL'!D54 -> #REF! | S56: =R56-P56 -> #REF!
A57: TOTAL: | B57: ='[2]NOVIEMBRE 2025'!B56 -> 375129789 | C57: ='[2]NOVIEMBRE 2025'!C56 -> 84701010 | D57: ='[2]NOVIEMBRE 2025'!D56 -> 7153857 | E57: ='[2]NOVIEMBRE 2025'!E56 -> 12534633 | F57: ='[2]NOVIEMBRE 2025'!F56 -> 2528188 | G57: ='[2]NOVIEMBRE 2025'!G56 -> 2408894 | H57: ='[2]NOVIEMBRE 2025'!H56 -> 1489804 | I57: ='[2]NOVIEMBRE 2025'!I56 -> 18335063 | ... M57: ='[2]NOVIEMBRE 2025'!M56 -> 0 | N57: =SUM(N14:N56) -> 17479786 | O57: =SUM(O14:O56) -> 673687 | P57: =SUM(P14:P56) -> 589484398 | R57: ='[2]NOVIEMBRE 2025'!N56+#REF!+'[2]FDO FOM MPAL CONVENIO'!D55+'[2]IMPTO ENAJ.BEBIDAS CONT ALCOHOL'!D55 -> #REF! | S57: =R57-P57 -> #REF!
E74: TOTAL PARTICIPACIONES A MUNICIPIOS NOVIEMBRE 2025
E75: (ministrado en diciembre 2025)
C76: (INCLUYE: FEPM MES NOVIEMBRE 2025, FONDO FOMENTO MUNICIPAL CONVENIO (NOVIEMBRE 2025)
B77: INCENTIVO A LA VENTA FINAL DE GASOLINA Y DIESEL, REZAGO Y FISCALIZACIÓN, REZAGO TENENCIA LOCAL , TENENCIA FEDERAL REZAGO, ISAN E IMPUESTO ENAJENACION DE BEBIDAS CON CONTENIDO ALCOHÓLICO NOVIEMBRE 2025 )
J78: ESTADO | L78: MUNICIPIOS
E80: FONDO GENERAL | J80: 1875648943 | K80: X 20%= | L80: 375129789
E82: FONDO FOMENTO MUNICIPAL | J82: 84701010 | K82: X 100% | L82: 84701010
E84: FONDO I.E.P.S | J84: 35769285 | K84: X 20%= | L84: 7153857
E86: ISAN | J86: 62673167 | K86: X 20%= | L86: 12534633
E88: ENAJENACIÓN ISR BIENES INMUEBLES | J88: 12640940 | K88: X 20%= | L88: 2528188
E90: FONDO DE COMP.DE ISAN. | J90: 12044471 | K90: X 20%= | L90: 2408894
E92: FONDO DE EXTRACC.DE HIDROCARBUROS | J92: 7449021 | K92: X 20%= | L92: 1489804
E94: INCENTIVOS A LA VENTA FINAL DE GASOLINA Y DIESEL | J94: 91675313 | K94: X 20%= | L94: 18335063
E96: FONDO DE FISCALIZACIÓN | J96: 45753610 | K96: X 20%= | L96: 9150722
E98: TENENCIA FEDERAL | J98: 876 | K98: X 20%= | L98: 175
E100: FONDO ISR | J100: 57898790 | K100: X 100% | L100: 57898790
E102: TENENCIA LOCAL | J102: 0 | K102: X 37%= | L102: 0
... E106: IMPUESTO ENAJENACION DE BEBIDAS CON CONTENIDO ALCOHÓLICO | J106: 3368434 | K106: X 20%= | L106: 673687
J108: =SUM(J80:J106) -> 2307103646 | L108: =SUM(L80:L106) -> 589484398

Sheet ACUM NOVIEMBRE 2025 DESGLOSADO
A6: TOTAL PARTICIPACIONES A MUNICIPIOS NOVIEMBRE 2025
A7: (ministrado en diciembre 2025)
A8: (INCLUYE: FEPM MES NOVIEMBRE 2025, FONDO FOMENTO MUNICIPAL CONVENIO (NOVIEMBRE 2025)
A9: INCENTIVO A LA VENTA FINAL DE GASOLINA Y DIESEL, REZAGO Y FISCALIZACIÓN, REZAGO TENENCIA LOCAL , TENENCIA FEDERAL REZAGO, ISAN E IMPUESTO ENAJENACION DE BEBIDAS CON CONTENIDO ALCOHÓLICO NOVIEMBRE 2025 )
C10: FONDO | D10: FONDO | F10: Enajenacion | G10: FONDO COMP. | H10: FONDO EXTRACCION | I10: INCENTIVOS A LA VENTA | J10: FONDO DE | K10: TENENCIA | L10: FONDO | M10: TENENCIA | N10: FONDO FOMENTO | O10: IMPTO ENAJENACION
A11: MUNICIPIOS | B11: FONDO GENERAL | C11: FOMENTO | D11: I.E.P.S. | E11: I.S.A.N. | F11: ISR Bienes | G11: I.S.A.N. | H11: DE HIDROCARBUROS | I11: FINAL DE GASOLINA | J11: FISCALIZACION | K11: FEDERAL | L11: ISR | M11: LOCAL | N11: MUNICIPAL | O11: DE BEBIDAS CON CONTENIDO | P11: TOTAL
C12: MUNICIPAL | F12: Inmuebles | I12: Y DIESEL | N12: CONVENIO | O12: ALCOHÓLICO
A14: ABASOLO | B14: =SUM(B15:B20) -> 2028065 | C14: =SUM(C15:C20) -> 457918 | D14: =SUM(D15:D20) -> 38676 | E14: =SUM(E15:E20) -> 67766 | F14: =SUM(F15:F20) -> 13668 | G14: =SUM(G15:G20) -> 13023 | H14: =SUM(H15:H20) -> 22071 | I14: =SUM(I15:I20) -> 149463 | ... O14: =SUM(O15:O20) -> 54 | P14: =SUM(B14:O14) -> 3028263
A15: NOVIEMBRE 2025 | B15: 2028065 | C15: 457918 | D15: 38676 | E15: 67766 | F15: 13668 | G15: 13023 | H15: 22071 | I15: 149463 | J15: 189200 | K15: 0 | L15: 0 | M15: 0 | N15: 48359 | O15: 54 | P15: =SUM(B15:O15) -> 3028263
A16: DIF CAMBIO COEF | P16: =SUM(B16:O16) -> 0
A17: FEIEF | P17: =SUM(B17:O17) -> 0
A18: AJUSTE DEFINITIVO | P18: =SUM(B18:O18) -> 0
A19: AJUSTE CUATRIMESTRAL | P19: =SUM(B19:O19) -> 0
A20: AJUSTE TRIMESTRAL | P20: =SUM(B20:O20) -> 0
A21: ALDAMA | B21: =SUM(B22:B27) -> 3620854 | C21: =SUM(C22:C27) -> 817557 | D21: =SUM(D22:D27) -> 69051 | E21: =SUM(E22:E27) -> 120988 | F21: =SUM(F22:F27) -> 24403 | G21: =SUM(G22:G27) -> 23251 | H21: =SUM(H22:H27) -> 55868 | I21: =SUM(I22:I27) -> 201609 | ... O21: =SUM(O22:O27) -> 60 | P21: =SUM(B21:O21) -> 5197403
A22: NOVIEMBRE 2025 | B22: 3620854 | C22: 817557 | D22: 69051 | E22: 120988 | F22: 24403 | G22: 23251 | H22: 55868 | I22: 201609 | J22: 161540 | K22: 29 | L22: 0 | M22: 0 | N22: 102193 | O22: 60 | P22: =SUM(B22:O22) -> 5197403
A23: DIF CAMBIO COEF | P23: =SUM(B23:O23) -> 0
A24: FEIEF | P24: =SUM(B24:O24) -> 0
A25: AJUSTE DEFINITIVO | P25: =SUM(B25:O25) -> 0
A26: AJUSTE CUATRIMESTRAL | P26: =SUM(B26:O26) -> 0
A27: AJUSTE TRIMESTRAL | P27: =SUM(B27:O27) -> 0
A28: ALTAMIRA | B28: =SUM(B29:B34) -> 25111158 | C28: =SUM(C29:C34) -> 5669878 | D28: =SUM(D29:D34) -> 478879 | E28: =SUM(E29:E34) -> 839067 | F28: =SUM(F29:F34) -> 169237 | G28: =SUM(G29:G34) -> 161251 | H28: =SUM(H29:H34) -> 55868 | I28: =SUM(I29:I34) -> 1104942 | ... O28: =SUM(O29:O34) -> 51043 | P28: =SUM(B28:O28) -> 43822774
A29: NOVIEMBRE 2025 | B29: 25111158 | C29: 5669878 | D29: 478879 | E29: 839067 | F29: 169237 | G29: 161251 | H29: 55868 | I29: 1104942 | J29: 205284 | K29: 73 | L29: 7856395 | M29: 0 | N29: 2119699 | O29: 51043 | P29: =SUM(B29:O29) -> 43822774
A30: DIF CAMBIO COEF | P30: =SUM(B30:O30) -> 0
A31: FEIEF | P31: =SUM(B31:O31) -> 0
A32: AJUSTE DEFINITIVO | P32: =SUM(B32:O32) -> 0
A33: AJUSTE CUATRIMESTRAL | P33: =SUM(B33:O33) -> 0
A34: AJUSTE TRIMESTRAL | P34: =SUM(B34:O34) -> 0
A35: ANTIGUO MORELOS | B35: =SUM(B36:B41) -> 1976453 | C35: =SUM(C36:C41) -> 446265 | D35: =SUM(D36:D41) -> 37692 | E35: =SUM(E36:E41) -> 66041 | F35: =SUM(F36:F41) -> 13320 | G35: =SUM(G36:G41) -> 12692 | H35: =SUM(H36:H41) -> 22071 | I35: =SUM(I36:I41) -> 133711 | ... O35: =SUM(O36:O41) -> 27 | P35: =SUM(B35:O35) -> 2929377
A36: NOVIEMBRE 2025 | B36: 1976453 | C36: 446265 | D36: 37692 | E36: 66041 | F36: 13320 | G36: 12692 | H36: 22071 | I36: 133711 | J36: 168878 | K36: 0 | L36: 870 | M36: 0 | N36: 51357 | O36: 27 | P36: =SUM(B36:O36) -> 2929377
A37: DIF CAMBIO COEF | P37: =SUM(B37:O37) -> 0
A38: FEIEF | P38: =SUM(B38:O38) -> 0
A39: AJUSTE DEFINITIVO | P39: =SUM(B39:O39) -> 0
A40: AJUSTE CUATRIMESTRAL | P40: =SUM(B40:O40) -> 0
A41: AJUSTE TRIMESTRAL | P41: =SUM(B41:O41) -> 0
A42: BURGOS | B42: =SUM(B43:B48) -> 1611423 | C42: =SUM(C43:C48) -> 363844 | D42: =SUM(D43:D48) -> 30730 | E42: =SUM(E43:E48) -> 53844 | F42: =SUM(F43:F48) -> 10860 | G42: =SUM(G43:G48) -> 10348 | H42: =SUM(H43:H48) -> 22071 | I42: =SUM(I43:I48) -> 227139 | ... O42: =SUM(O43:O48) -> 105 | P42: =SUM(B42:O42) -> 2797419
A43: NOVIEMBRE 2025 | B43: 1611423 | C43: 363844 | D43: 30730 | E43: 53844 | F43: 10860 | G43: 10348 | H43: 22071 | I43: 227139 | J43: 352111 | K43: 0 | L43: 63523 | M43: 0 | N43: 51421 | O43: 105 | P43: =SUM(B43:O43) -> 2797419
A44: DIF CAMBIO COEF | P44: =SUM(B44:O44) -> 0
A45: FEIEF | P45: =SUM(B45:O45) -> 0
A46: AJUSTE DEFINITIVO | P46: =SUM(B46:O46) -> 0
...

Sheet DICIEMBRE 2025
A6: PARTICIPACIONES A MUNICIPIOS DICIEMBRE 2025
A7: (ministrado en enero 2026)
C9: FONDO | D9: FONDO | F9: Enajenacion | G9: FONDO COMP. | H9: FONDO EXTRACCION | I9: INCENTIVOS A LA VENTA | J9: FONDO DE | K9: TENENCIA | L9: FONDO | M9: TENENCIA
A10: MUNICIPIOS | B10: FONDO GENERAL | C10: FOMENTO | D10: I.E.P.S. | E10: I.S.A.N. | F10: ISR Bienes | G10: I.S.A.N. | H10: DE HIDROCARBUROS | I10: FINAL DE GASOLINA | J10: FISCALIZACION | K10: FEDERAL | L10: ISR | M10: LOCAL | N10: TOTAL
C11: MUNICIPAL | F11: Inmuebles | I11: Y DIESEL
A13: ABASOLO | B13: 2140943 | C13: 474091 | D13: 40995 | E13: 66976 | F13: 5897 | G13: 13023 | H13: 20972 | I13: 153342 | J13: 189200 | K13: 0 | L13: -1811 | M13: 0 | N13: =SUM(B13:M13) -> 3103628
A14: ALDAMA | B14: 3822386 | C14: 846431 | D14: 73191 | E14: 119577 | F14: 10529 | G14: 23251 | H14: 53084 | I14: 206842 | J14: 161539 | K14: 0 | L14: 355911 | M14: 0 | N14: =SUM(B14:M14) -> 5672741
A15: ALTAMIRA | B15: 26508786 | C15: 5870127 | D15: 507592 | E15: 829285 | F15: 73020 | G15: 161251 | H15: 53083 | I15: 1133622 | J15: 205284 | K15: 37 | L15: 1809081 | M15: 0 | N15: =SUM(B15:M15) -> 37151168
A16: ANTIGUO MORELOS | B16: 2086456 | C16: 462026 | D16: 39952 | E16: 65272 | F16: 5747 | G16: 12692 | H16: 20972 | I16: 137181 | J16: 168878 | K16: 0 | L16: 870 | M16: 0 | N16: =SUM(B16:M16) -> 3000046
A17: BURGOS | B17: 1701109 | C17: 376694 | D17: 32573 | E17: 53217 | F17: 4686 | G17: 10348 | H17: 20972 | I17: 233034 | J17: 352111 | K17: 0 | L17: 61520 | M17: 0 | N17: =SUM(B17:M17) -> 2846264
A18: BUSTAMANTE | B18: 1889195 | C18: 418344 | D18: 36174 | E18: 59100 | F18: 5204 | G18: 11492 | H18: 20972 | I18: 166637 | J18: 224558 | K18: 0 | L18: 0 | M18: 0 | N18: =SUM(B18:M18) -> 2831676
A19: CAMARGO | B19: 2866545 | C19: 634770 | D19: 54889 | E19: 89675 | F19: 7896 | G19: 17437 | H19: 53084 | I19: 181491 | J19: 194146 | K19: 0 | L19: -1045 | M19: 0 | N19: =SUM(B19:M19) -> 4098888
A20: CASAS | B20: 1648462 | C20: 365037 | D20: 31565 | E20: 51570 | F20: 4541 | G20: 10027 | H20: 20972 | I20: 188588 | J20: 280724 | K20: 0 | L20: 0 | M20: 0 | N20: =SUM(B20:M20) -> 2601486
A21: CD. MADERO | B21: 22290111 | C21: 4935939 | D21: 426813 | E21: 697310 | F21: 61399 | G21: 135589 | H21: 53084 | I21: 891489 | J21: 199156 | K21: 0 | L21: 11229 | M21: 0 | N21: =SUM(B21:M21) -> 29702119
A22: CRUILLAS | B22: 1429795 | C22: 316615 | D22: 27378 | E22: 44729 | F22: 3938 | G22: 8697 | H22: 20972 | I22: 122079 | J22: 187841 | K22: 0 | L22: 15339 | M22: 0 | N22: =SUM(B22:M22) -> 2177383
A23: GOMEZ FARIAS | B23: 2059476 | C23: 456053 | D23: 39435 | E23: 64428 | F23: 5673 | G23: 12528 | H23: 20972 | I23: 160178 | J23: 209568 | K23: 0 | L23: 34120 | M23: 0 | N23: =SUM(B23:M23) -> 3062431
A24: GONZALEZ | B24: 5054496 | C24: 1119271 | D24: 96784 | E24: 158122 | F24: 13923 | G24: 30746 | H24: 53084 | I24: 282245 | J24: 206668 | K24: 0 | L24: -1489 | M24: 0 | N24: =SUM(B24:M24) -> 7013850
... A55: XICOTENCATL | B55: 3265193 | C55: 723049 | D55: 62522 | E55: 102146 | F55: 8994 | G55: 19862 | H55: 20972 | I55: 262096 | J55: 290453 | K55: 0 | L55: 0 | M55: 0 | N55: =SUM(B55:M55) -> 4755287
A56: TOTAL: | B56: =SUM(B13:B55) -> 396008617 | C56: =SUM(C13:C55) -> 87692477 | D56: =SUM(D13:D55) -> 7582802 | E56: =SUM(E13:E55) -> 12388495 | F56: =SUM(F13:F55) -> 1090829 | G56: =SUM(G13:G55) -> 2408894 | H56: =SUM(H13:H55) -> 1415583 | I56: =SUM(I13:I55) -> 18810972 | ... N56: =SUM(N13:N55) -> 562577296
C71: PARTICIPACIONES A MUNICIPIOS DICIEMBRE 2025
C72: (ministrado en enero 2026)
H73: ESTADO | J73: MUNICIPIOS
C75: FONDO GENERAL | H75: 1980043082 | I75: X 20%= | J75: 396008617
C77: FONDO FOMENTO MUNICIPAL | H77: 87692477 | I77: X 100% | J77: 87692477
C79: FONDO I.E.P.S | H79: 37914011 | I79: X 20%= | J79: 7582802
C81: ISAN | H81: 61942474 | I81: X 20%= | J81: 12388495
C83: ENAJENACIÓN ISR BIENES INMUEBLES | H83: 5454146 | I83: X 20%= | J83: 1090829
C85: FONDO DE COMP.DE ISAN. | H85: 12044471 | I85: X 20%= | J85: 2408894
C87: FONDO DE EXTRACC.DE HIDROCARBUROS | H87: 7077913 | I87: X 20%= | J87: 1415583
C89: INCENTIVOS A LA VENTA FINAL DE GASOLINA Y DIESEL | H89: 94054859 | I89: X 20%= | J89: 18810972
C91: FONDO DE FISCALIZACIÓN | H91: 45753609 | I91: X 20%= | J91: 9150722
C93: TENENCIA FEDERAL | H93: 579 | I93: X 20%= | J93: 116
C95: FONDO ISR | H95: 26027789 | I95: X 100% | J95: 26027789
C97: TENENCIA LOCAL | H97: 0 | I97: X 37%= | J97: 0
H99: =SUM(H75:H97) -> 2358005410 | J99: =SUM(J75:J97) -> 562577296

Sheet FDO FOM MPAL CONV DIC
B6: FONDO FOMENTO MUNICIPAL CONVENIO DICIEMBRE 2025
B7: (ministrado en enero 2026)
C8: FONDO DE
B9: MUNICIPIOS | C9: FOMENTO MUNICIPAL | D9: TOTAL
C10: 30%
B12: ABASOLO | C12: 52633 | D12: =SUM(C12:C12) -> 52633
B13: ALDAMA | C13: 111226 | D13: =SUM(C13:C13) -> 111226
B14: ALTAMIRA | C14: 2307063 | D14: =SUM(C14:C14) -> 2307063
B15: ANTIGUO MORELOS | C15: 55897 | D15: =SUM(C15:C15) -> 55897
B16: BURGOS | C16: 55966 | D16: =SUM(C16:C16) -> 55966
B17: BUSTAMANTE | C17: 63250 | D17: =SUM(C17:C17) -> 63250
B18: CAMARGO | C18: 116464 | D18: =SUM(C18:C18) -> 116464
B19: CASAS | C19: 46030 | D19: =SUM(C19:C19) -> 46030
B20: CD. MADERO | C20: 0 | D20: =SUM(C20:C20) -> 0
B21: CRUILLAS | C21: 12825 | D21: =SUM(C21:C21) -> 12825
B22: GOMEZ FARIAS | C22: 60204 | D22: =SUM(C22:C22) -> 60204
B23: GONZALEZ | C23: 353164 | D23: =SUM(C23:C23) -> 353164
... B54: XICOTENCATL | C54: 145296 | D54: =SUM(C54:C54) -> 145296
B55: TOTAL: | C55: =SUM(C12:C54) -> 19024855 | D55: =SUM(D12:D54) -> 19024855
B76: FONDO FOMENTO MUNICIPAL CONVENIO DICIEMBRE 2025
B77: (ministrado en enero 2026)
C79: ESTADO | E79: MUNICIPIOS
B81: FONDO FOMENTO MUNICIPAL | C81: 19024855 | D81: X 100%= | E81: 19024855
B84: TOTAL | C84: =SUM(C81:C82) -> 19024855 | E84: =SUM(E81:E82) -> 19024855

Sheet IMPTO ENAJ.BEB CONT ALCOHOL DIC
A6: IMPUESTO ENAJENACION DE BEBIDAS CON CONTENIDO ALCOHÓLICO DICIEMBRE 2025
B7: (ministrado en enero 2026)
C8: IMPUESTO ENAJENACION
B9: MUNICIPIOS | C9: DE BEBIDAS CON CONTENIDO | D9: TOTAL
C10: ALCOHÓLICO
B12: ABASOLO | C12: 62 | D12: =SUM(C12:C12) -> 62
B13: ALDAMA | C13: 81 | D13: =SUM(C13:C13) -> 81
B14: ALTAMIRA | C14: 40973 | D14: =SUM(C14:C14) -> 40973
B15: ANTIGUO MORELOS | C15: 0 | D15: =SUM(C15:C15) -> 0
B16: BURGOS | C16: 104 | D16: =SUM(C16:C16) -> 104
B17: BUSTAMANTE | C17: 0 | D17: =SUM(C17:C17) -> 0
B18: CAMARGO | C18: 1150 | D18: =SUM(C18:C18) -> 1150
B19: CASAS | C19: 0 | D19: =SUM(C19:C19) -> 0
B20: CD. MADERO | C20: 528 | D20: =SUM(C20:C20) -> 528
B21: CRUILLAS | C21: 155 | D21: =SUM(C21:C21) -> 155
B22: GOMEZ FARIAS | C22: 29 | D22: =SUM(C22:C22) -> 29
B23: GONZALEZ | C23: 440 | D23: =SUM(C23:C23) -> 440
... B54: XICOTENCATL | C54: 70 | D54: =SUM(C54:C54) -> 70
B55: TOTAL: | C55: =SUM(C12:C54) -> 995424 | D55: =SUM(D12:D54) -> 995424
B81: IMPUESTO ENAJENACION DE BEBIDAS CON CONTENIDO ALCOHÓLICO DICIEMBRE 2025
B82: (ministrado en enero 2026)
C84: ESTADO | E84: MUNICIPIOS
B86: IMPUESTO ENAJENACION DE BEBIDAS CON CONTENIDO ALCOHÓLICO | C86: 4977118 | D86: X 20%= | E86: 995424
B89: TOTAL | C89: =SUM(C86:C87) -> 4977118 | E89: =SUM(E86:E87) -> 995424

Sheet ACUMULADO DICIEMBRE 2025
A6: TOTAL PARTICIPACIONES A MUNICIPIOS DICIEMBRE 2025
A7: (ministrado en enero 2026)
A8: (INCLUYE: FEPM MES DICIEMBRE 2025, FONDO FOMENTO MUNICIPAL CONVENIO (DICIEMBRE 2025)
A9: INCENTIVO A LA VENTA FINAL DE GASOLINA Y DIESEL, REZAGO Y FISCALIZACIÓN, REZAGO TENENCIA LOCAL , TENENCIA FEDERAL REZAGO, ISAN E IMPUESTO ENAJENACION DE BEBIDAS CON CONTENIDO ALCOHÓLICO DICIEMBRE 2025 )
C10: FONDO | D10: FONDO | F10: Enajenacion | G10: FONDO COMP. | H10: FONDO EXTRACCION | I10: INCENTIVOS A LA VENTA | J10: FONDO DE | K10: TENENCIA | L10: FONDO | M10: TENENCIA | N10: FONDO DE | O10: IMPTO ENAJENACION
A11: MUNICIPIOS | B11: FONDO GENERAL | C11: FOMENTO | D11: I.E.P.S. | E11: I.S.A.N. | F11: ISR Bienes | G11: I.S.A.N. | H11: DE HIDROCARBUROS | I11: FINAL DE GASOLINA | J11: FISCALIZACION | K11: FEDERAL | L11: ISR | M11: LOCAL | N11: FOMENTO MUNICIPAL | O11: DE BEBIDAS CON CONTENIDO | P11: TOTAL
C12: MUNICIPAL | F12: Inmuebles | I12: Y DIESEL | N12: 30% | O12: ALCOHÓLICO
A14: ABASOLO | B14: 2140943 | C14: 474091 | D14: 40995 | E14: 66976 | F14: 5897 | G14: 13023 | H14: 20972 | I14: 153342 | J14: 189200 | K14: 0 | L14: -1811 | M14: 0 | N14: 52633 | O14: 62 | P14: =SUM(B14:O14) -> 3156323 | R14: ='[3]DICIEMBRE 2025'!N13+#REF!+'[3]FDO FOM MPAL CONVENIO'!D12+'[3]IMPTO ENAJ.BEBIDAS CONT ALCOHOL'!D12 -> #REF! | S14: =R14-P14 -> #REF!
A15: ALDAMA | B15: 3822386 | C15: 846431 | D15: 73191 | E15: 119577 | F15: 10529 | G15: 23251 | H15: 53084 | I15: 206842 | J15: 161539 | K15: 0 | L15: 355911 | M15: 0 | N15: 111226 | O15: 81 | P15: =SUM(B15:O15) -> 5784048 | R15: ='[3]DICIEMBRE 2025'!N14+#REF!+'[3]FDO FOM MPAL CONVENIO'!D13+'[3]IMPTO ENAJ.BEBIDAS CONT ALCOHOL'!D13 -> #REF! | S15: =R15-P15 -> #REF!
A16: ALTAMIRA | B16: 26508786 | C16: 5870127 | D16: 507592 | E16: 829285 | F16: 73020 | G16: 161251 | H16: 53083 | I16: 1133622 | J16: 205284 | K16: 37 | L16: 1809081 | M16: 0 | N16: 2307063 | O16: 40973 | P16: =SUM(B16:O16) -> 39499204 | R16: ='[3]DICIEMBRE 2025'!N15+#REF!+'[3]FDO FOM MPAL CONVENIO'!D14+'[3]IMPTO ENAJ.BEBIDAS CONT ALCOHOL'!D14 -> #REF! | S16: =R16-P16 -> #REF!
A17: ANTIGUO MORELOS | B17: 2086456 | C17: 462026 | D17: 39952 | E17: 65272 | F17: 5747 | G17: 12692 | H17: 20972 | I17: 137181 | J17: 168878 | K17: 0 | L17: 870 | M17: 0 | N17: 55897 | O17: 0 | P17: =SUM(B17:O17) -> 3055943 | R17: ='[3]DICIEMBRE 2025'!N16+#REF!+'[3]FDO FOM MPAL CONVENIO'!D15+'[3]IMPTO ENAJ.BEBIDAS CONT ALCOHOL'!D15 -> #REF! | S17: =R17-P17 -> #REF!
A18: BURGOS | B18: 1701109 | C18: 376694 | D18: 32573 | E18: 53217 | F18: 4686 | G18: 10348 | H18: 20972 | I18: 233034 | J18: 352111 | K18: 0 | L18: 61520 | M18: 0 | N18: 55966 | O18: 104 | P18: =SUM(B18:O18) -> 2902334 | R18: ='[3]DICIEMBRE 2025'!N17+#REF!+'[3]FDO FOM MPAL CONVENIO'!D16+'[3]IMPTO ENAJ.BEBIDAS CONT ALCOHOL'!D16 -> #REF! | S18: =R18-P18 -> #REF!
A19: BUSTAMANTE | B19: 1889195 | C19: 418344 | D19: 36174 | E19: 59100 | F19: 5204 | G19: 11492 | H19: 20972 | I19: 166637 | J19: 224558 | K19: 0 | L19: 0 | M19: 0 | N19: 63250 | O19: 0 | P19: =SUM(B19:O19) -> 2894926 | R19: ='[3]DICIEMBRE 2025'!N18+#REF!+'[3]FDO FOM MPAL CONVENIO'!D17+'[3]IMPTO ENAJ.BEBIDAS CONT ALCOHOL'!D17 -> #REF! | S19: =R19-P19 -> #REF!
A20: CAMARGO | B20: 2866545 | C20: 634770 | D20: 54889 | E20: 89675 | F20: 7896 | G20: 17437 | H20: 53084 | I20: 181491 | J20: 194146 | K20: 0 | L20: -1045 | M20: 0 | N20: 116464 | O20: 1150 | P20: =SUM(B20:O20) -> 4216502 | R20: ='[3]DICIEMBRE 2025'!N19+#REF!+'[3]FDO FOM MPAL CONVENIO'!D18+'[3]IMPTO ENAJ.BEBIDAS CONT ALCOHOL'!D18 -> #REF! | S20: =R20-P20 -> #REF!
A21: CASAS | B21: 1648462 | C21: 365037 | D21: 31565 | E21: 51570 | F21: 4541 | G21: 10027 | H21: 20972 | I21: 188588 | J21: 280724 | K21: 0 | L21: 0 | M21: 0 | N21: 46030 | O21: 0 | P21: =SUM(B21:O21) -> 2647516 | R21: ='[3]DICIEMBRE 2025'!N20+#REF!+'[3]FDO FOM MPAL CONVENIO'!D19+'[3]IMPTO ENAJ.BEBIDAS CONT ALCOHOL'!D19 -> #REF! | S21: =R21-P21 -> #REF!
A22: CD. MADERO | B22: 22290111 | C22: 4935939 | D22: 426813 | E22: 697310 | F22: 61399 | G22: 135589 | H22: 53084 | I22: 891489 | J22: 199156 | K22: 0 | L22: 11229 | M22: 0 | N22: 0 | O22: 528 | P22: =SUM(B22:O22) -> 29702647 | R22: ='[3]DICIEMBRE 2025'!N21+#REF!+'[3]FDO FOM MPAL CONVENIO'!D20+'[3]IMPTO ENAJ.BEBIDAS CONT ALCOHOL'!D20 -> #REF! | S22: =R22-P22 -> #REF!
A23: CRUILLAS | B23: 1429795 | C23: 316615 | D23: 27378 | E23: 44729 | F23: 3938 | G23: 8697 | H23: 20972 | I23: 122079 | J23: 187841 | K23: 0 | L23: 15339 | M23: 0 | N23: 12825 | O23: 155 | P23: =SUM(B23:O23) -> 2190363 | R23: ='[3]DICIEMBRE 2025'!N22+#REF!+'[3]FDO FOM MPAL CONVENIO'!D21+'[3]IMPTO ENAJ.BEBIDAS CONT ALCOHOL'!D21 -> #REF! | S23: =R23-P23 -> #REF!
A24: GOMEZ FARIAS | B24: 2059476 | C24: 456053 | D24: 39435 | E24: 64428 | F24: 5673 | G24: 12528 | H24: 20972 | I24: 160178 | J24: 209568 | K24: 0 | L24: 34120 | M24: 0 | N24: 60204 | O24: 29 | P24: =SUM(B24:O24) -> 3122664 | R24: ='[3]DICIEMBRE 2025'!N23+#REF!+'[3]FDO FOM MPAL CONVENIO'!D22+'[3]IMPTO ENAJ.BEBIDAS CONT ALCOHOL'!D22 -> #REF! | S24: =R24-P24 -> #REF!
A25: GONZALEZ | B25: 5054496 | C25: 1119271 | D25: 96784 | E25: 158122 | F25: 13923 | G25: 30746 | H25: 53084 | I25: 282245 | J25: 206668 | K25: 0 | L25: -1489 | M25: 0 | N25: 353164 | O25: 440 | P25: =SUM(B25:O25) -> 7367454 | R25: ='[3]DICIEMBRE 2025'!N24+#REF!+'[3]FDO FOM MPAL CONVENIO'!D23+'[3]IMPTO ENAJ.BEBIDAS CONT ALCOHOL'!D23 -> #REF! | S25: =R25-P25 -> #REF!
... A56: XICOTENCATL | B56: 3265193 | C56: 723049 | D56: 62522 | E56: 102146 | F56: 8994 | G56: 19862 | H56: 20972 | I56: 262096 | J56: 290453 | K56: 0 | L56: 0 | M56: 0 | N56: 145296 | O56: 70 | P56: =SUM(B56:O56) -> 4900653 | R56: ='[3]DICIEMBRE 2025'!N55+#REF!+'[3]FDO FOM MPAL CONVENIO'!D54+'[3]IMPTO ENAJ.BEBIDAS CONT ALCOHOL'!D54 -> #REF! | S56: =R56-P56 -> #REF!
A57: TOTAL: | B57: ='[3]DICIEMBRE 2025'!B56 -> 396008617 | C57: ='[3]DICIEMBRE 2025'!C56 -> 87692477 | D57: ='[3]DICIEMBRE 2025'!D56 -> 7582802 | E57: ='[3]DICIEMBRE 2025'!E56 -> 12388495 | F57: ='[3]DICIEMBRE 2025'!F56 -> 1090829 | G57: ='[3]DICIEMBRE 2025'!G56 -> 2408894 | H57: ='[3]DICIEMBRE 2025'!H56 -> 1415583 | I57: ='[3]DICIEMBRE 2025'!I56 -> 18810972 | ... M57: ='[3]DICIEMBRE 2025'!M56 -> 0 | N57: =SUM(N14:N56) -> 19024855 | O57: =SUM(O14:O56) -> 995424 | P57: =SUM(P14:P56) -> 582597575 | R57: ='[3]DICIEMBRE 2025'!N56+#REF!+'[3]FDO FOM MPAL CONVENIO'!D55+'[3]IMPTO ENAJ.BEBIDAS CONT ALCOHOL'!D55 -> #REF! | S57: =R57-P57 -> #REF!
E75: TOTAL PARTICIPACIONES A MUNICIPIOS DICIEMBRE 2025
E76: (ministrado en enero 2026)
C77: (INCLUYE: FEPM MES DICIEMBRE 2025, FONDO FOMENTO MUNICIPAL CONVENIO (DICIEMBRE 2025)
B78: INCENTIVO A LA VENTA FINAL DE GASOLINA Y DIESEL, REZAGO Y FISCALIZACIÓN, REZAGO TENENCIA LOCAL , TENENCIA FEDERAL REZAGO, ISAN E IMPUESTO ENAJENACION DE BEBIDAS CON CONTENIDO ALCOHÓLICO DICIEMBRE 2025 )
J79: ESTADO | L79: MUNICIPIOS
E81: FONDO GENERAL | J81: 1980043082 | K81: X 20%= | L81: 396008617
E83: FONDO FOMENTO MUNICIPAL | J83: 87692477 | K83: X 100% | L83: 87692477
E85: FONDO I.E.P.S | J85: 37914011 | K85: X 20%= | L85: 7582802
E87: ISAN | J87: 61942474 | K87: X 20%= | L87: 12388495
E89: ENAJENACIÓN ISR BIENES INMUEBLES | J89: 5454146 | K89: X 20%= | L89: 1090829
E91: FONDO DE COMP.DE ISAN. | J91: 12044471 | K91: X 20%= | L91: 2408894
E93: FONDO DE EXTRACC.DE HIDROCARBUROS | J93: 7077913 | K93: X 20%= | L93: 1415583
E95: INCENTIVOS A LA VENTA FINAL DE GASOLINA Y DIESEL | J95: 94054859 | K95: X 20%= | L95: 18810972
E97: FONDO DE FISCALIZACIÓN | J97: 45753609 | K97: X 20%= | L97: 9150722
E99: TENENCIA FEDERAL | J99: 579 | K99: X 20%= | L99: 116
E101: FONDO ISR | J101: 26027789 | K101: X 100% | L101: 26027789
E103: TENENCIA LOCAL | J103: 0 | K103: X 37%= | L103: 0
... E107: IMPUESTO ENAJENACION DE BEBIDAS CON CONTENIDO ALCOHÓLICO | J107: 4977118 | K107: X 20%= | L107: 995424
J109: =SUM(J81:J107) -> 2382007383 | L109: =SUM(L81:L107) -> 582597575

Sheet ACUM DICIEMBRE 2025 DESGLOSADO
A6: TOTAL PARTICIPACIONES A MUNICIPIOS DICIEMBRE 2025
A7: (ministrado en enero 2026)
A8: (INCLUYE: FEPM MES DICIEMBRE 2025, FONDO FOMENTO MUNICIPAL CONVENIO (DICIEMBRE 2025)
A9: INCENTIVO A LA VENTA FINAL DE GASOLINA Y DIESEL, REZAGO Y FISCALIZACIÓN, REZAGO TENENCIA LOCAL , TENENCIA FEDERAL REZAGO, ISAN E IMPUESTO ENAJENACION DE BEBIDAS CON CONTENIDO ALCOHÓLICO DICIEMBRE 2025 )
